BEGIN:VCALENDAR
VERSION:2.0
PRODID:-//AusschreibungsRadar//Timeline//DE
CALSCALE:GREGORIAN
METHOD:PUBLISH
X-WR-CALNAME:Projekt Virenschutzlösung Stadt Mannheim 
X-WR-TIMEZONE:Europe/Berlin
BEGIN:VEVENT
UID:9ad98e315c75d0e7@ausschreibungsradar.com
DTSTAMP:20260424T222506Z
DTSTART;VALUE=DATE:20250828
DTEND;VALUE=DATE:20250828
SUMMARY:Angebotsfrist — Virenschutzlösung Stadt Mannheim 
DESCRIPTION:Phase: Ausschreibung | Beschreibung: Angebote werden eingeholt | Link: https://ausschreibungsradar.com/ausschreibung/802b8f06-24c7-42a0-aa57-2acb232a8111/
URL:https://ausschreibungsradar.com/ausschreibung/802b8f06-24c7-42a0-aa57-2acb232a8111/
END:VEVENT
BEGIN:VEVENT
UID:d05b01add36f1de7@ausschreibungsradar.com
DTSTAMP:20260424T222506Z
DTSTART;VALUE=DATE:20251023
DTEND;VALUE=DATE:20251023
SUMMARY:Vergabeergebnis — Virenschutzlösung Stadt Mannheim 
DESCRIPTION:Phase: Vergabeergebnis | Beschreibung: Auftrag wurde zugeschlagen | Link: https://ausschreibungsradar.com/ausschreibung/bfc9f3a2-5fbb-4deb-b429-c53f67eac926/
URL:https://ausschreibungsradar.com/ausschreibung/bfc9f3a2-5fbb-4deb-b429-c53f67eac926/
END:VEVENT
END:VCALENDAR
