BEGIN:VCALENDAR
VERSION:2.0
PRODID:-//AusschreibungsRadar//Timeline//DE
CALSCALE:GREGORIAN
METHOD:PUBLISH
X-WR-CALNAME:Projekt Tierseuche
X-WR-TIMEZONE:Europe/Berlin
BEGIN:VEVENT
UID:cb823cb4c12edccd@ausschreibungsradar.com
DTSTAMP:20260424T105452Z
DTSTART;VALUE=DATE:20260512
DTEND;VALUE=DATE:20260512
SUMMARY:Angebotsfrist — Tierseuche
DESCRIPTION:Phase: Ausschreibung | Beschreibung: Angebote werden eingeholt | Link: https://ausschreibungsradar.com/ausschreibung/802f6c3e-b9b3-4a03-a878-2e6c814fa709/
URL:https://ausschreibungsradar.com/ausschreibung/802f6c3e-b9b3-4a03-a878-2e6c814fa709/
END:VEVENT
END:VCALENDAR
