BEGIN:VCALENDAR
VERSION:2.0
PRODID:-//AusschreibungsRadar//Timeline//DE
CALSCALE:GREGORIAN
METHOD:PUBLISH
X-WR-CALNAME:Projekt Straßenbau, Ver- und Entsorgungsleitungen
X-WR-TIMEZONE:Europe/Berlin
BEGIN:VEVENT
UID:b1db8f16f370aa2e@ausschreibungsradar.com
DTSTAMP:20260425T202425Z
DTSTART;VALUE=DATE:20240723
DTEND;VALUE=DATE:20240723
SUMMARY:Angebotsfrist — Straßenbau\, Ver- und Entsorgungsleitungen
DESCRIPTION:Phase: Ausschreibung | Beschreibung: Angebote werden eingeholt | Link: https://ausschreibungsradar.com/ausschreibung/803d3540-3c39-4743-ba3b-c8d01e0b02a1/
URL:https://ausschreibungsradar.com/ausschreibung/803d3540-3c39-4743-ba3b-c8d01e0b02a1/
END:VEVENT
END:VCALENDAR
