BEGIN:VCALENDAR
VERSION:2.0
PRODID:-//AusschreibungsRadar//Timeline//DE
CALSCALE:GREGORIAN
METHOD:PUBLISH
X-WR-CALNAME:Projekt Stadt Weingarten: Neubau Talschule, Trockenbauarbeiten
X-WR-TIMEZONE:Europe/Berlin
BEGIN:VEVENT
UID:bb00d02224883fb4@ausschreibungsradar.com
DTSTAMP:20260425T230835Z
DTSTART;VALUE=DATE:20250924
DTEND;VALUE=DATE:20250924
SUMMARY:Angebotsfrist — Stadt Weingarten: Neubau Talschule\, Trockenbauarbeiten
DESCRIPTION:Phase: Ausschreibung | Beschreibung: Angebote werden eingeholt | Link: https://ausschreibungsradar.com/ausschreibung/21b2ef73-c61b-48ad-acdd-0500ace5b240/
URL:https://ausschreibungsradar.com/ausschreibung/21b2ef73-c61b-48ad-acdd-0500ace5b240/
END:VEVENT
BEGIN:VEVENT
UID:b691dcf57165b97f@ausschreibungsradar.com
DTSTAMP:20260425T230835Z
DTSTART;VALUE=DATE:20251112
DTEND;VALUE=DATE:20251112
SUMMARY:Ausschreibung — Stadt Weingarten: Neubau Talschule\, Trockenbauarbeiten
DESCRIPTION:Phase: Ausschreibung | Beschreibung: Offizielle Ausschreibung mit Bieterfrist. | Link: https://ausschreibungsradar.com/ausschreibung/b82175d5-7646-4902-a0b8-191b580e630b/
URL:https://ausschreibungsradar.com/ausschreibung/b82175d5-7646-4902-a0b8-191b580e630b/
END:VEVENT
BEGIN:VEVENT
UID:9d25417f06d3aab9@ausschreibungsradar.com
DTSTAMP:20260425T230835Z
DTSTART;VALUE=DATE:20251203
DTEND;VALUE=DATE:20251203
SUMMARY:Vergabeergebnis — Stadt Weingarten: Neubau Talschule\, Trockenbauarbeiten
DESCRIPTION:Phase: Vergabeergebnis | Beschreibung: Auftrag wurde zugeschlagen | Link: https://ausschreibungsradar.com/ausschreibung/8057d622-aa9d-4a45-9285-e30b810646bc/
URL:https://ausschreibungsradar.com/ausschreibung/8057d622-aa9d-4a45-9285-e30b810646bc/
END:VEVENT
BEGIN:VEVENT
UID:6b4e26af08c871f7@ausschreibungsradar.com
DTSTAMP:20260425T230835Z
DTSTART;VALUE=DATE:20251203
DTEND;VALUE=DATE:20251203
SUMMARY:Zuschlag — Stadt Weingarten: Neubau Talschule\, Trockenbauarbeiten
DESCRIPTION:Phase: Zuschlag | Beschreibung: Vergabeergebnis — Auftrag wurde erteilt oder Verfahren beendet. | Link: https://ausschreibungsradar.com/ausschreibung/a7bc9ccc-bbce-4106-a430-e24df76edb03/
URL:https://ausschreibungsradar.com/ausschreibung/a7bc9ccc-bbce-4106-a430-e24df76edb03/
END:VEVENT
END:VCALENDAR
