BEGIN:VCALENDAR
VERSION:2.0
PRODID:-//AusschreibungsRadar//Timeline//DE
CALSCALE:GREGORIAN
METHOD:PUBLISH
X-WR-CALNAME:Projekt Generalplanung Kita Mennonitenstraße - Sanierung einer Kinde
X-WR-TIMEZONE:Europe/Berlin
BEGIN:VEVENT
UID:8ca7e55a0dfe7462@ausschreibungsradar.com
DTSTAMP:20260425T194015Z
DTSTART;VALUE=DATE:20250603
DTEND;VALUE=DATE:20250603
SUMMARY:Ausschreibung — Generalplanung Kita Mennonitenstraße - Sanierung einer Kinde
DESCRIPTION:Phase: Ausschreibung | Beschreibung: Angebote werden eingeholt | Link: https://ausschreibungsradar.com/ausschreibung/08d4079b-4de5-4501-ac29-59820d0fb267/ | Geschätzter Wert: 550000 €
URL:https://ausschreibungsradar.com/ausschreibung/08d4079b-4de5-4501-ac29-59820d0fb267/
END:VEVENT
BEGIN:VEVENT
UID:7d570ad6ce412845@ausschreibungsradar.com
DTSTAMP:20260425T194015Z
DTSTART;VALUE=DATE:20251027
DTEND;VALUE=DATE:20251027
SUMMARY:Vergabeergebnis — Generalplanung Kita Mennonitenstraße - Sanierung einer Kinde
DESCRIPTION:Phase: Vergabeergebnis | Beschreibung: Auftrag wurde zugeschlagen | Link: https://ausschreibungsradar.com/ausschreibung/8091107b-df71-4170-8ab1-fd773199caae/ | Auftragnehmer: s2n-architekten Part. mbB
URL:https://ausschreibungsradar.com/ausschreibung/8091107b-df71-4170-8ab1-fd773199caae/
END:VEVENT
END:VCALENDAR
