BEGIN:VCALENDAR
VERSION:2.0
PRODID:-//AusschreibungsRadar//Timeline//DE
CALSCALE:GREGORIAN
METHOD:PUBLISH
X-WR-CALNAME:Projekt Jungbestands- und Schlagpflege Schwäb.-Fränk. Wald für Forst
X-WR-TIMEZONE:Europe/Berlin
BEGIN:VEVENT
UID:3380a53b2b57f11e@ausschreibungsradar.com
DTSTAMP:20260424T133219Z
DTSTART;VALUE=DATE:20250715
DTEND;VALUE=DATE:20250715
SUMMARY:Angebotsfrist — Jungbestands- und Schlagpflege Schwäb.-Fränk. Wald für Forst
DESCRIPTION:Phase: Ausschreibung | Beschreibung: Angebote werden eingeholt | Link: https://ausschreibungsradar.com/ausschreibung/80a65ea9-e56d-4eff-aa26-04c275d81735/
URL:https://ausschreibungsradar.com/ausschreibung/80a65ea9-e56d-4eff-aa26-04c275d81735/
END:VEVENT
BEGIN:VEVENT
UID:6c5ec7dd53533be9@ausschreibungsradar.com
DTSTAMP:20260424T133219Z
DTSTART;VALUE=DATE:20250605
DTEND;VALUE=DATE:20250605
SUMMARY:Ausschreibung — Jungbestands- und Schlagpflege Schwäb.-Fränk. Wald für Forst
DESCRIPTION:Phase: Ausschreibung | Beschreibung: Offizielle Ausschreibung mit Bieterfrist. | Link: https://ausschreibungsradar.com/ausschreibung/f1b70693-4ae9-4fa0-8180-a30b40c8bc56/
URL:https://ausschreibungsradar.com/ausschreibung/f1b70693-4ae9-4fa0-8180-a30b40c8bc56/
END:VEVENT
BEGIN:VEVENT
UID:455d5658ae1005e2@ausschreibungsradar.com
DTSTAMP:20260424T133219Z
DTSTART;VALUE=DATE:20250806
DTEND;VALUE=DATE:20250806
SUMMARY:Vergabeergebnis — Jungbestands- und Schlagpflege Schwäb.-Fränk. Wald für Forst
DESCRIPTION:Phase: Vergabeergebnis | Beschreibung: Auftrag wurde zugeschlagen | Link: https://ausschreibungsradar.com/ausschreibung/2896e398-50e2-438e-bd83-1f74a1cdd8c9/ | Geschätzter Wert: 1 €
URL:https://ausschreibungsradar.com/ausschreibung/2896e398-50e2-438e-bd83-1f74a1cdd8c9/
END:VEVENT
END:VCALENDAR
