BEGIN:VCALENDAR
VERSION:2.0
PRODID:-//AusschreibungsRadar//Timeline//DE
CALSCALE:GREGORIAN
METHOD:PUBLISH
X-WR-CALNAME:Projekt Neubau einer Grundschule mit Zweifach-Sporthalle und Musiksc
X-WR-TIMEZONE:Europe/Berlin
BEGIN:VEVENT
UID:6ad91c7e15f26d6a@ausschreibungsradar.com
DTSTAMP:20260424T133240Z
DTSTART;VALUE=DATE:20240725
DTEND;VALUE=DATE:20240725
SUMMARY:Ausschreibung — Neubau einer Grundschule mit Zweifach-Sporthalle und Musiksc
DESCRIPTION:Phase: Ausschreibung | Beschreibung: Offizielle Ausschreibung mit Bieterfrist. | Link: https://ausschreibungsradar.com/ausschreibung/616a9fce-f2fa-4a45-98d4-96a516c8dd67/
URL:https://ausschreibungsradar.com/ausschreibung/616a9fce-f2fa-4a45-98d4-96a516c8dd67/
END:VEVENT
BEGIN:VEVENT
UID:fafd783c7f8536b1@ausschreibungsradar.com
DTSTAMP:20260424T133240Z
DTSTART;VALUE=DATE:20240902
DTEND;VALUE=DATE:20240902
SUMMARY:Angebotsfrist — Neubau einer Grundschule mit Zweifach-Sporthalle und Musiksc
DESCRIPTION:Phase: Ausschreibung | Beschreibung: Angebote werden eingeholt | Link: https://ausschreibungsradar.com/ausschreibung/80b1c4b0-9d3c-4e33-bbee-3dfa1719d429/ | Geschätzter Wert: 27000 €
URL:https://ausschreibungsradar.com/ausschreibung/80b1c4b0-9d3c-4e33-bbee-3dfa1719d429/
END:VEVENT
BEGIN:VEVENT
UID:8f59ab3c1a0878a6@ausschreibungsradar.com
DTSTAMP:20260424T133240Z
DTSTART;VALUE=DATE:20240726
DTEND;VALUE=DATE:20240726
SUMMARY:Ausschreibung — Neubau einer Grundschule mit Zweifach-Sporthalle und Musiksc
DESCRIPTION:Phase: Ausschreibung | Beschreibung: Offizielle Ausschreibung mit Bieterfrist. | Link: https://ausschreibungsradar.com/ausschreibung/01f0bc46-7f6b-4ba0-b502-f312d317a655/
URL:https://ausschreibungsradar.com/ausschreibung/01f0bc46-7f6b-4ba0-b502-f312d317a655/
END:VEVENT
BEGIN:VEVENT
UID:fe87938c4a1fa068@ausschreibungsradar.com
DTSTAMP:20260424T133240Z
DTSTART;VALUE=DATE:20240727
DTEND;VALUE=DATE:20240727
SUMMARY:Ausschreibung — Neubau einer Grundschule mit Zweifach-Sporthalle und Musiksc
DESCRIPTION:Phase: Ausschreibung | Beschreibung: Offizielle Ausschreibung mit Bieterfrist. | Link: https://ausschreibungsradar.com/ausschreibung/62f96988-1b71-46e3-81b7-50d0be43d09e/
URL:https://ausschreibungsradar.com/ausschreibung/62f96988-1b71-46e3-81b7-50d0be43d09e/
END:VEVENT
END:VCALENDAR
