BEGIN:VCALENDAR
VERSION:2.0
PRODID:-//AusschreibungsRadar//Timeline//DE
CALSCALE:GREGORIAN
METHOD:PUBLISH
X-WR-CALNAME:Projekt Klinikum Nordschwarzwald - Neubau eines Pflegeheims in Calw-
X-WR-TIMEZONE:Europe/Berlin
BEGIN:VEVENT
UID:097bde6023bab630@ausschreibungsradar.com
DTSTAMP:20260424T004936Z
DTSTART;VALUE=DATE:20240614
DTEND;VALUE=DATE:20240614
SUMMARY:Ausschreibung — Klinikum Nordschwarzwald - Neubau eines Pflegeheims in Calw-
DESCRIPTION:Phase: Ausschreibung | Beschreibung: Angebote werden eingeholt | Link: https://ausschreibungsradar.com/ausschreibung/1c52050c-5b1f-4562-b12e-aacec03e5318/
URL:https://ausschreibungsradar.com/ausschreibung/1c52050c-5b1f-4562-b12e-aacec03e5318/
END:VEVENT
BEGIN:VEVENT
UID:6fe8356405967ec7@ausschreibungsradar.com
DTSTAMP:20260424T004936Z
DTSTART;VALUE=DATE:20241113
DTEND;VALUE=DATE:20241113
SUMMARY:Zuschlag — Klinikum Nordschwarzwald - Neubau eines Pflegeheims in Calw-
DESCRIPTION:Phase: Zuschlag | Beschreibung: Vergabeergebnis — Auftrag wurde erteilt oder Verfahren beendet. | Link: https://ausschreibungsradar.com/ausschreibung/b54f41f6-7f82-467e-9353-d02c52b0a5f5/
URL:https://ausschreibungsradar.com/ausschreibung/b54f41f6-7f82-467e-9353-d02c52b0a5f5/
END:VEVENT
BEGIN:VEVENT
UID:528c515338a47846@ausschreibungsradar.com
DTSTAMP:20260424T004936Z
DTSTART;VALUE=DATE:20241113
DTEND;VALUE=DATE:20241113
SUMMARY:Zuschlag — Klinikum Nordschwarzwald - Neubau eines Pflegeheims in Calw-
DESCRIPTION:Phase: Zuschlag | Beschreibung: Vergabeergebnis — Auftrag wurde erteilt oder Verfahren beendet. | Link: https://ausschreibungsradar.com/ausschreibung/89bf44e7-0324-460e-b531-3a2c56ff80cf/
URL:https://ausschreibungsradar.com/ausschreibung/89bf44e7-0324-460e-b531-3a2c56ff80cf/
END:VEVENT
BEGIN:VEVENT
UID:dba73d49f4d9158c@ausschreibungsradar.com
DTSTAMP:20260424T004936Z
DTSTART;VALUE=DATE:20241125
DTEND;VALUE=DATE:20241125
SUMMARY:Vergabeergebnis — Klinikum Nordschwarzwald - Neubau eines Pflegeheims in Calw-
DESCRIPTION:Phase: Vergabeergebnis | Beschreibung: Auftrag wurde zugeschlagen | Link: https://ausschreibungsradar.com/ausschreibung/812adaa3-149f-4706-b2da-4650f8d55880/
URL:https://ausschreibungsradar.com/ausschreibung/812adaa3-149f-4706-b2da-4650f8d55880/
END:VEVENT
END:VCALENDAR
