BEGIN:VCALENDAR
VERSION:2.0
PRODID:-//AusschreibungsRadar//Timeline//DE
CALSCALE:GREGORIAN
METHOD:PUBLISH
X-WR-CALNAME:Projekt Energieeffizienzmaßnahmen Haus S
X-WR-TIMEZONE:Europe/Berlin
BEGIN:VEVENT
UID:6d5e88986116fe13@ausschreibungsradar.com
DTSTAMP:20260424T143845Z
DTSTART;VALUE=DATE:20240725
DTEND;VALUE=DATE:20240725
SUMMARY:Angebotsfrist — Energieeffizienzmaßnahmen Haus S
DESCRIPTION:Phase: Ausschreibung | Beschreibung: Angebote werden eingeholt | Link: https://ausschreibungsradar.com/ausschreibung/8143cda8-9675-47e7-a8fd-c5eb3046fb5d/
URL:https://ausschreibungsradar.com/ausschreibung/8143cda8-9675-47e7-a8fd-c5eb3046fb5d/
END:VEVENT
END:VCALENDAR
