BEGIN:VCALENDAR
VERSION:2.0
PRODID:-//AusschreibungsRadar//Timeline//DE
CALSCALE:GREGORIAN
METHOD:PUBLISH
X-WR-CALNAME:Projekt Baukonzession für die Planung, Errichtung und den Betrieb vo
X-WR-TIMEZONE:Europe/Berlin
BEGIN:VEVENT
UID:48cfac44cd6ed0aa@ausschreibungsradar.com
DTSTAMP:20260424T165953Z
DTSTART;VALUE=DATE:20251104
DTEND;VALUE=DATE:20251104
SUMMARY:Ausschreibung — Baukonzession für die Planung\, Errichtung und den Betrieb vo
DESCRIPTION:Phase: Ausschreibung | Beschreibung: Angebote werden eingeholt | Link: https://ausschreibungsradar.com/ausschreibung/814772d2-c5bd-40a0-98a6-66ac964c4ffb/
URL:https://ausschreibungsradar.com/ausschreibung/814772d2-c5bd-40a0-98a6-66ac964c4ffb/
END:VEVENT
BEGIN:VEVENT
UID:3697bd2d6d51fc8c@ausschreibungsradar.com
DTSTAMP:20260424T165953Z
DTSTART;VALUE=DATE:20251104
DTEND;VALUE=DATE:20251104
SUMMARY:Ausschreibung — Baukonzession für die Planung\, Errichtung und den Betrieb vo
DESCRIPTION:Phase: Ausschreibung | Beschreibung: Offizielle Ausschreibung mit Bieterfrist. | Link: https://ausschreibungsradar.com/ausschreibung/416b7683-8e42-4033-ab65-2ed5e3d0e90a/
URL:https://ausschreibungsradar.com/ausschreibung/416b7683-8e42-4033-ab65-2ed5e3d0e90a/
END:VEVENT
END:VCALENDAR
