BEGIN:VCALENDAR
VERSION:2.0
PRODID:-//AusschreibungsRadar//Timeline//DE
CALSCALE:GREGORIAN
METHOD:PUBLISH
X-WR-CALNAME:Projekt Neubau des Mobilitätszentrums UrbanLand (MZL) - Dacharbeiten
X-WR-TIMEZONE:Europe/Berlin
BEGIN:VEVENT
UID:a5389c266f4ece13@ausschreibungsradar.com
DTSTAMP:20260425T114649Z
DTSTART;VALUE=DATE:20250826
DTEND;VALUE=DATE:20250826
SUMMARY:Angebotsfrist — Neubau des Mobilitätszentrums UrbanLand (MZL) - Dacharbeiten
DESCRIPTION:Phase: Ausschreibung | Beschreibung: Angebote werden eingeholt | Link: https://ausschreibungsradar.com/ausschreibung/d007669a-d3c2-4c75-a338-74759d4281f9/
URL:https://ausschreibungsradar.com/ausschreibung/d007669a-d3c2-4c75-a338-74759d4281f9/
END:VEVENT
BEGIN:VEVENT
UID:97775cd65b55c5c6@ausschreibungsradar.com
DTSTAMP:20260425T114649Z
DTSTART;VALUE=DATE:20251110
DTEND;VALUE=DATE:20251110
SUMMARY:Vergabeergebnis — Neubau des Mobilitätszentrums UrbanLand (MZL) - Dacharbeiten
DESCRIPTION:Phase: Vergabeergebnis | Beschreibung: Auftrag wurde zugeschlagen | Link: https://ausschreibungsradar.com/ausschreibung/8173c691-766c-4f3d-9b40-024db642df50/
URL:https://ausschreibungsradar.com/ausschreibung/8173c691-766c-4f3d-9b40-024db642df50/
END:VEVENT
BEGIN:VEVENT
UID:71ebafe21af2cf2a@ausschreibungsradar.com
DTSTAMP:20260425T114649Z
DTSTART;VALUE=DATE:20251110
DTEND;VALUE=DATE:20251110
SUMMARY:Zuschlag — Neubau des Mobilitätszentrums UrbanLand (MZL) - Dacharbeiten
DESCRIPTION:Phase: Zuschlag | Beschreibung: Vergabeergebnis — Auftrag wurde erteilt oder Verfahren beendet. | Link: https://ausschreibungsradar.com/ausschreibung/5556d87a-1c6d-4b41-9224-27f7cf1f6b91/
URL:https://ausschreibungsradar.com/ausschreibung/5556d87a-1c6d-4b41-9224-27f7cf1f6b91/
END:VEVENT
BEGIN:VEVENT
UID:2fd9b3e1c3bc0855@ausschreibungsradar.com
DTSTAMP:20260425T114649Z
DTSTART;VALUE=DATE:20251209
DTEND;VALUE=DATE:20251209
SUMMARY:Ausschreibung — Neubau des Mobilitätszentrums UrbanLand (MZL) - Dacharbeiten
DESCRIPTION:Phase: Ausschreibung | Beschreibung: Offizielle Ausschreibung mit Bieterfrist. | Link: https://ausschreibungsradar.com/ausschreibung/f4702ce6-f74f-4657-b0f0-128604e3f4a6/
URL:https://ausschreibungsradar.com/ausschreibung/f4702ce6-f74f-4657-b0f0-128604e3f4a6/
END:VEVENT
END:VCALENDAR
