BEGIN:VCALENDAR
VERSION:2.0
PRODID:-//AusschreibungsRadar//Timeline//DE
CALSCALE:GREGORIAN
METHOD:PUBLISH
X-WR-CALNAME:Projekt ReR - Erweiterung und Sanierung - Realschule Renningen- Estr
X-WR-TIMEZONE:Europe/Berlin
BEGIN:VEVENT
UID:4e8f235037fb3ea1@ausschreibungsradar.com
DTSTAMP:20260425T162427Z
DTSTART;VALUE=DATE:20250924
DTEND;VALUE=DATE:20250924
SUMMARY:Angebotsfrist — ReR - Erweiterung und Sanierung - Realschule Renningen- Estr
DESCRIPTION:Phase: Ausschreibung | Beschreibung: Angebote werden eingeholt | Link: https://ausschreibungsradar.com/ausschreibung/817b1f02-b33e-4c28-ac17-a5f3d754c738/
URL:https://ausschreibungsradar.com/ausschreibung/817b1f02-b33e-4c28-ac17-a5f3d754c738/
END:VEVENT
BEGIN:VEVENT
UID:99911d8d4aa12b78@ausschreibungsradar.com
DTSTAMP:20260425T162427Z
DTSTART;VALUE=DATE:20251124
DTEND;VALUE=DATE:20251124
SUMMARY:Vergabeergebnis — ReR - Erweiterung und Sanierung - Realschule Renningen- Estr
DESCRIPTION:Phase: Vergabeergebnis | Beschreibung: Auftrag wurde zugeschlagen | Link: https://ausschreibungsradar.com/ausschreibung/0c04362f-5c1c-4c73-b067-b6eba772a789/
URL:https://ausschreibungsradar.com/ausschreibung/0c04362f-5c1c-4c73-b067-b6eba772a789/
END:VEVENT
END:VCALENDAR
