BEGIN:VCALENDAR
VERSION:2.0
PRODID:-//AusschreibungsRadar//Timeline//DE
CALSCALE:GREGORIAN
METHOD:PUBLISH
X-WR-CALNAME:Projekt Rahmenvereinbarung Grünflächen-Pflegeleistungen Los 06
X-WR-TIMEZONE:Europe/Berlin
BEGIN:VEVENT
UID:411d1ab928e71c08@ausschreibungsradar.com
DTSTAMP:20260424T172638Z
DTSTART;VALUE=DATE:20250108
DTEND;VALUE=DATE:20250108
SUMMARY:Angebotsfrist — Rahmenvereinbarung Grünflächen-Pflegeleistungen Los 06
DESCRIPTION:Phase: Ausschreibung | Beschreibung: Angebote werden eingeholt | Link: https://ausschreibungsradar.com/ausschreibung/1e1346a5-3cc9-4fe2-bdb7-a708c4e0205d/ | Geschätzter Wert: 169536 €
URL:https://ausschreibungsradar.com/ausschreibung/1e1346a5-3cc9-4fe2-bdb7-a708c4e0205d/
END:VEVENT
BEGIN:VEVENT
UID:1c2031a27720b5d9@ausschreibungsradar.com
DTSTAMP:20260424T172638Z
DTSTART;VALUE=DATE:20250122
DTEND;VALUE=DATE:20250122
SUMMARY:Zuschlag — Rahmenvereinbarung Grünflächen-Pflegeleistungen Los 06
DESCRIPTION:Phase: Zuschlag | Beschreibung: Vergabeergebnis — Auftrag wurde erteilt oder Verfahren beendet. | Link: https://ausschreibungsradar.com/ausschreibung/b3411ec6-8dd0-4233-9a4f-f46cd40d5a11/
URL:https://ausschreibungsradar.com/ausschreibung/b3411ec6-8dd0-4233-9a4f-f46cd40d5a11/
END:VEVENT
BEGIN:VEVENT
UID:fd975a7ae5853b5c@ausschreibungsradar.com
DTSTAMP:20260424T172638Z
DTSTART;VALUE=DATE:20250210
DTEND;VALUE=DATE:20250210
SUMMARY:Vergabeergebnis — Rahmenvereinbarung Grünflächen-Pflegeleistungen Los 06
DESCRIPTION:Phase: Vergabeergebnis | Beschreibung: Auftrag wurde zugeschlagen | Link: https://ausschreibungsradar.com/ausschreibung/818b6346-17e4-46aa-89fe-9a83059afeaf/ | Geschätzter Wert: 169536 €
URL:https://ausschreibungsradar.com/ausschreibung/818b6346-17e4-46aa-89fe-9a83059afeaf/
END:VEVENT
BEGIN:VEVENT
UID:d20da80cb1a0891e@ausschreibungsradar.com
DTSTAMP:20260424T172638Z
DTSTART;VALUE=DATE:20250227
DTEND;VALUE=DATE:20250227
SUMMARY:Zuschlag — Rahmenvereinbarung Grünflächen-Pflegeleistungen Los 06
DESCRIPTION:Phase: Zuschlag | Beschreibung: Vergabeergebnis — Auftrag wurde erteilt oder Verfahren beendet. | Link: https://ausschreibungsradar.com/ausschreibung/3c8098ef-1322-43da-9de6-257047563192/
URL:https://ausschreibungsradar.com/ausschreibung/3c8098ef-1322-43da-9de6-257047563192/
END:VEVENT
END:VCALENDAR
