BEGIN:VCALENDAR
VERSION:2.0
PRODID:-//AusschreibungsRadar//Timeline//DE
CALSCALE:GREGORIAN
METHOD:PUBLISH
X-WR-CALNAME:Projekt Umbau und Sanierung Rathaus Gengenbach - Stahlbauarbeiten
X-WR-TIMEZONE:Europe/Berlin
BEGIN:VEVENT
UID:b23b0b31136d23ba@ausschreibungsradar.com
DTSTAMP:20260424T001613Z
DTSTART;VALUE=DATE:20250910
DTEND;VALUE=DATE:20250910
SUMMARY:Zuschlag — Umbau und Sanierung Rathaus Gengenbach - Stahlbauarbeiten
DESCRIPTION:Phase: Zuschlag | Beschreibung: Vergabeergebnis — Auftrag wurde erteilt oder Verfahren beendet. | Link: https://ausschreibungsradar.com/ausschreibung/2e5d8381-21a7-48b6-9b0e-561c90603c31/
URL:https://ausschreibungsradar.com/ausschreibung/2e5d8381-21a7-48b6-9b0e-561c90603c31/
END:VEVENT
BEGIN:VEVENT
UID:96172e5d5ac76e60@ausschreibungsradar.com
DTSTAMP:20260424T001613Z
DTSTART;VALUE=DATE:20251106
DTEND;VALUE=DATE:20251106
SUMMARY:Angebotsfrist — Umbau und Sanierung Rathaus Gengenbach - Stahlbauarbeiten
DESCRIPTION:Phase: Ausschreibung | Beschreibung: Angebote werden eingeholt | Link: https://ausschreibungsradar.com/ausschreibung/827a34c4-d749-4bb5-a4b9-6be381f16eec/
URL:https://ausschreibungsradar.com/ausschreibung/827a34c4-d749-4bb5-a4b9-6be381f16eec/
END:VEVENT
BEGIN:VEVENT
UID:0dbcdd6053e2d78f@ausschreibungsradar.com
DTSTAMP:20260424T001613Z
DTSTART;VALUE=DATE:20251006
DTEND;VALUE=DATE:20251006
SUMMARY:Ausschreibung — Umbau und Sanierung Rathaus Gengenbach - Stahlbauarbeiten
DESCRIPTION:Phase: Ausschreibung | Beschreibung: Offizielle Ausschreibung mit Bieterfrist. | Link: https://ausschreibungsradar.com/ausschreibung/7653b3f4-1df9-4546-b0c9-79d3ef16b88b/
URL:https://ausschreibungsradar.com/ausschreibung/7653b3f4-1df9-4546-b0c9-79d3ef16b88b/
END:VEVENT
BEGIN:VEVENT
UID:8326b19f383a24c3@ausschreibungsradar.com
DTSTAMP:20260424T001613Z
DTSTART;VALUE=DATE:20251010
DTEND;VALUE=DATE:20251010
SUMMARY:Zuschlag — Umbau und Sanierung Rathaus Gengenbach - Stahlbauarbeiten
DESCRIPTION:Phase: Zuschlag | Beschreibung: Vergabeergebnis — Auftrag wurde erteilt oder Verfahren beendet. | Link: https://ausschreibungsradar.com/ausschreibung/fe15021c-5645-4599-96ff-38952fd5f3f9/
URL:https://ausschreibungsradar.com/ausschreibung/fe15021c-5645-4599-96ff-38952fd5f3f9/
END:VEVENT
BEGIN:VEVENT
UID:1e31fbab7a0acea0@ausschreibungsradar.com
DTSTAMP:20260424T001613Z
DTSTART;VALUE=DATE:20251103
DTEND;VALUE=DATE:20251103
SUMMARY:Zuschlag — Umbau und Sanierung Rathaus Gengenbach - Stahlbauarbeiten
DESCRIPTION:Phase: Zuschlag | Beschreibung: Vergabeergebnis — Auftrag wurde erteilt oder Verfahren beendet. | Link: https://ausschreibungsradar.com/ausschreibung/bf71440c-140c-43e9-9447-ac3450934dc7/
URL:https://ausschreibungsradar.com/ausschreibung/bf71440c-140c-43e9-9447-ac3450934dc7/
END:VEVENT
BEGIN:VEVENT
UID:05c5c5536764bcdc@ausschreibungsradar.com
DTSTAMP:20260424T001613Z
DTSTART;VALUE=DATE:20260108
DTEND;VALUE=DATE:20260108
SUMMARY:Vergabeergebnis — Umbau und Sanierung Rathaus Gengenbach - Stahlbauarbeiten
DESCRIPTION:Phase: Vergabeergebnis | Beschreibung: Auftrag wurde zugeschlagen | Link: https://ausschreibungsradar.com/ausschreibung/4f0a5aef-33ac-4b52-b20b-7547504ab2e2/
URL:https://ausschreibungsradar.com/ausschreibung/4f0a5aef-33ac-4b52-b20b-7547504ab2e2/
END:VEVENT
END:VCALENDAR
