BEGIN:VCALENDAR
VERSION:2.0
PRODID:-//AusschreibungsRadar//Timeline//DE
CALSCALE:GREGORIAN
METHOD:PUBLISH
X-WR-CALNAME:Projekt PVE 30.05 Bauüberwachung Fahrleitung und Elektro
X-WR-TIMEZONE:Europe/Berlin
BEGIN:VEVENT
UID:d2479575053358f3@ausschreibungsradar.com
DTSTAMP:20260424T155454Z
DTSTART;VALUE=DATE:20260505
DTEND;VALUE=DATE:20260505
SUMMARY:Angebotsfrist — PVE 30.05 Bauüberwachung Fahrleitung und Elektro
DESCRIPTION:Phase: Ausschreibung | Beschreibung: Angebote werden eingeholt | Link: https://ausschreibungsradar.com/ausschreibung/83010867-4c63-4a7b-a8b8-374a2a190f6f/
URL:https://ausschreibungsradar.com/ausschreibung/83010867-4c63-4a7b-a8b8-374a2a190f6f/
END:VEVENT
END:VCALENDAR
