BEGIN:VCALENDAR
VERSION:2.0
PRODID:-//AusschreibungsRadar//Timeline//DE
CALSCALE:GREGORIAN
METHOD:PUBLISH
X-WR-CALNAME:Projekt Schafhof IV b Neubau Mehrfamilienhäuser Projektsteuerung
X-WR-TIMEZONE:Europe/Berlin
BEGIN:VEVENT
UID:fb3a36c82435e19b@ausschreibungsradar.com
DTSTAMP:20260426T021952Z
DTSTART;VALUE=DATE:20241220
DTEND;VALUE=DATE:20241220
SUMMARY:Ausschreibung — Schafhof IV b Neubau Mehrfamilienhäuser Projektsteuerung
DESCRIPTION:Phase: Ausschreibung | Beschreibung: Angebote werden eingeholt | Link: https://ausschreibungsradar.com/ausschreibung/165250c6-47e7-41a0-9572-04db9f7f1709/
URL:https://ausschreibungsradar.com/ausschreibung/165250c6-47e7-41a0-9572-04db9f7f1709/
END:VEVENT
BEGIN:VEVENT
UID:20ed16fab58fc902@ausschreibungsradar.com
DTSTAMP:20260426T021952Z
DTSTART;VALUE=DATE:20250305
DTEND;VALUE=DATE:20250305
SUMMARY:Zuschlag — Schafhof IV b Neubau Mehrfamilienhäuser Projektsteuerung
DESCRIPTION:Phase: Zuschlag | Beschreibung: Vergabeergebnis — Auftrag wurde erteilt oder Verfahren beendet. | Link: https://ausschreibungsradar.com/ausschreibung/ed6afbef-56c8-40a9-92e0-7713356f9478/
URL:https://ausschreibungsradar.com/ausschreibung/ed6afbef-56c8-40a9-92e0-7713356f9478/
END:VEVENT
BEGIN:VEVENT
UID:597e70a771b5da62@ausschreibungsradar.com
DTSTAMP:20260426T021952Z
DTSTART;VALUE=DATE:20250517
DTEND;VALUE=DATE:20250517
SUMMARY:Vergabeergebnis — Schafhof IV b Neubau Mehrfamilienhäuser Projektsteuerung
DESCRIPTION:Phase: Vergabeergebnis | Beschreibung: Auftrag wurde zugeschlagen | Link: https://ausschreibungsradar.com/ausschreibung/835645dc-c373-4a2a-97d5-15ba25c8794f/ | Auftragnehmer: IB Trieb GmbH & Co. KG
URL:https://ausschreibungsradar.com/ausschreibung/835645dc-c373-4a2a-97d5-15ba25c8794f/
END:VEVENT
BEGIN:VEVENT
UID:6fef115a64ca8430@ausschreibungsradar.com
DTSTAMP:20260426T021952Z
DTSTART;VALUE=DATE:20250517
DTEND;VALUE=DATE:20250517
SUMMARY:Zuschlag — Schafhof IV b Neubau Mehrfamilienhäuser Projektsteuerung
DESCRIPTION:Phase: Zuschlag | Beschreibung: Vergabeergebnis — Auftrag wurde erteilt oder Verfahren beendet. | Link: https://ausschreibungsradar.com/ausschreibung/7202a191-260b-4021-b942-d1c5446260e2/
URL:https://ausschreibungsradar.com/ausschreibung/7202a191-260b-4021-b942-d1c5446260e2/
END:VEVENT
BEGIN:VEVENT
UID:15cba84a45ff8a8c@ausschreibungsradar.com
DTSTAMP:20260426T021952Z
DTSTART;VALUE=DATE:20250517
DTEND;VALUE=DATE:20250517
SUMMARY:Zuschlag — Schafhof IV b Neubau Mehrfamilienhäuser Projektsteuerung
DESCRIPTION:Phase: Zuschlag | Beschreibung: Vergabeergebnis — Auftrag wurde erteilt oder Verfahren beendet. | Link: https://ausschreibungsradar.com/ausschreibung/7f63d766-3cef-4030-8dc1-43bb5728c05d/
URL:https://ausschreibungsradar.com/ausschreibung/7f63d766-3cef-4030-8dc1-43bb5728c05d/
END:VEVENT
BEGIN:VEVENT
UID:133a5510caf2c613@ausschreibungsradar.com
DTSTAMP:20260426T021952Z
DTSTART;VALUE=DATE:20250517
DTEND;VALUE=DATE:20250517
SUMMARY:Zuschlag — Schafhof IV b Neubau Mehrfamilienhäuser Projektsteuerung
DESCRIPTION:Phase: Zuschlag | Beschreibung: Vergabeergebnis — Auftrag wurde erteilt oder Verfahren beendet. | Link: https://ausschreibungsradar.com/ausschreibung/0ebeef62-8814-4d37-9e95-33ac337fafbc/
URL:https://ausschreibungsradar.com/ausschreibung/0ebeef62-8814-4d37-9e95-33ac337fafbc/
END:VEVENT
END:VCALENDAR
