BEGIN:VCALENDAR
VERSION:2.0
PRODID:-//AusschreibungsRadar//Timeline//DE
CALSCALE:GREGORIAN
METHOD:PUBLISH
X-WR-CALNAME:Projekt Entsorgung krankenspezifischer Abfälle
X-WR-TIMEZONE:Europe/Berlin
BEGIN:VEVENT
UID:bf331a577487eb22@ausschreibungsradar.com
DTSTAMP:20260423T232702Z
DTSTART;VALUE=DATE:20250401
DTEND;VALUE=DATE:20250401
SUMMARY:Angebotsfrist — Entsorgung krankenspezifischer Abfälle
DESCRIPTION:Phase: Ausschreibung | Beschreibung: Angebote werden eingeholt | Link: https://ausschreibungsradar.com/ausschreibung/8362bb24-3bd8-4472-9ee2-fe0c62dc3fc5/
URL:https://ausschreibungsradar.com/ausschreibung/8362bb24-3bd8-4472-9ee2-fe0c62dc3fc5/
END:VEVENT
BEGIN:VEVENT
UID:78a576720af3803d@ausschreibungsradar.com
DTSTAMP:20260423T232702Z
DTSTART;VALUE=DATE:20250221
DTEND;VALUE=DATE:20250221
SUMMARY:Ausschreibung — Entsorgung krankenspezifischer Abfälle
DESCRIPTION:Phase: Ausschreibung | Beschreibung: Offizielle Ausschreibung mit Bieterfrist. | Link: https://ausschreibungsradar.com/ausschreibung/0010843c-c546-4561-a9d2-993665adde44/
URL:https://ausschreibungsradar.com/ausschreibung/0010843c-c546-4561-a9d2-993665adde44/
END:VEVENT
BEGIN:VEVENT
UID:ddd52f03596a328b@ausschreibungsradar.com
DTSTAMP:20260423T232702Z
DTSTART;VALUE=DATE:20250221
DTEND;VALUE=DATE:20250221
SUMMARY:Ausschreibung — Entsorgung krankenspezifischer Abfälle
DESCRIPTION:Phase: Ausschreibung | Beschreibung: Offizielle Ausschreibung mit Bieterfrist. | Link: https://ausschreibungsradar.com/ausschreibung/1ac1e521-4f69-4b75-aba2-e8c0995a6e2a/
URL:https://ausschreibungsradar.com/ausschreibung/1ac1e521-4f69-4b75-aba2-e8c0995a6e2a/
END:VEVENT
BEGIN:VEVENT
UID:59cfc38ee82ab0e0@ausschreibungsradar.com
DTSTAMP:20260423T232702Z
DTSTART;VALUE=DATE:20250603
DTEND;VALUE=DATE:20250603
SUMMARY:Vergabeergebnis — Entsorgung krankenspezifischer Abfälle
DESCRIPTION:Phase: Vergabeergebnis | Beschreibung: Auftrag wurde zugeschlagen | Link: https://ausschreibungsradar.com/ausschreibung/a6b0b8bf-f079-42b0-8412-af6d54f438af/ | Geschätzter Wert: 0 €
URL:https://ausschreibungsradar.com/ausschreibung/a6b0b8bf-f079-42b0-8412-af6d54f438af/
END:VEVENT
END:VCALENDAR
