BEGIN:VCALENDAR
VERSION:2.0
PRODID:-//AusschreibungsRadar//Timeline//DE
CALSCALE:GREGORIAN
METHOD:PUBLISH
X-WR-CALNAME:Projekt Projektsteuerung für das Bauvorhaben "HEalth + LIfe science 
X-WR-TIMEZONE:Europe/Berlin
BEGIN:VEVENT
UID:b2c4fa2e3cadf209@ausschreibungsradar.com
DTSTAMP:20260424T091257Z
DTSTART;VALUE=DATE:20240515
DTEND;VALUE=DATE:20240515
SUMMARY:Angebotsfrist — Projektsteuerung für das Bauvorhaben "HEalth + LIfe science 
DESCRIPTION:Phase: Ausschreibung | Beschreibung: Angebote werden eingeholt | Link: https://ausschreibungsradar.com/ausschreibung/8363714e-e368-4142-adf4-3062920e968e/
URL:https://ausschreibungsradar.com/ausschreibung/8363714e-e368-4142-adf4-3062920e968e/
END:VEVENT
BEGIN:VEVENT
UID:54b39fa861263564@ausschreibungsradar.com
DTSTAMP:20260424T091257Z
DTSTART;VALUE=DATE:20240716
DTEND;VALUE=DATE:20240716
SUMMARY:Vergabeergebnis — Projektsteuerung für das Bauvorhaben "HEalth + LIfe science 
DESCRIPTION:Phase: Vergabeergebnis | Beschreibung: Auftrag wurde zugeschlagen | Link: https://ausschreibungsradar.com/ausschreibung/8508ba80-4b73-43cd-8d73-614854f5257d/
URL:https://ausschreibungsradar.com/ausschreibung/8508ba80-4b73-43cd-8d73-614854f5257d/
END:VEVENT
END:VCALENDAR
