BEGIN:VCALENDAR
VERSION:2.0
PRODID:-//AusschreibungsRadar//Timeline//DE
CALSCALE:GREGORIAN
METHOD:PUBLISH
X-WR-CALNAME:Projekt Komzet Kfz 2025
X-WR-TIMEZONE:Europe/Berlin
BEGIN:VEVENT
UID:a640241d8af95e4c@ausschreibungsradar.com
DTSTAMP:20260424T232834Z
DTSTART;VALUE=DATE:20251024
DTEND;VALUE=DATE:20251024
SUMMARY:Angebotsfrist — Komzet Kfz 2025
DESCRIPTION:Phase: Ausschreibung | Beschreibung: Angebote werden eingeholt | Link: https://ausschreibungsradar.com/ausschreibung/84279daf-f384-4e7b-bbc6-5eb6887cdad6/ | Geschätzter Wert: 110000 €
URL:https://ausschreibungsradar.com/ausschreibung/84279daf-f384-4e7b-bbc6-5eb6887cdad6/
END:VEVENT
BEGIN:VEVENT
UID:2a832c677fbb3fea@ausschreibungsradar.com
DTSTAMP:20260424T232834Z
DTSTART;VALUE=DATE:20260105
DTEND;VALUE=DATE:20260105
SUMMARY:Vergabeergebnis — Komzet Kfz 2025
DESCRIPTION:Phase: Vergabeergebnis | Beschreibung: Auftrag wurde zugeschlagen | Link: https://ausschreibungsradar.com/ausschreibung/55de3112-e874-4177-af20-23185b14d2d3/ | Geschätzter Wert: 110000 €
URL:https://ausschreibungsradar.com/ausschreibung/55de3112-e874-4177-af20-23185b14d2d3/
END:VEVENT
END:VCALENDAR
