BEGIN:VCALENDAR
VERSION:2.0
PRODID:-//AusschreibungsRadar//Timeline//DE
CALSCALE:GREGORIAN
METHOD:PUBLISH
X-WR-CALNAME:Projekt Stromausschreibung  Studentenwerk Halle Anstalt des öffentli
X-WR-TIMEZONE:Europe/Berlin
BEGIN:VEVENT
UID:32ae42a1e0beeb81@ausschreibungsradar.com
DTSTAMP:20260424T135804Z
DTSTART;VALUE=DATE:20260302
DTEND;VALUE=DATE:20260302
SUMMARY:Ausschreibung — Stromausschreibung  Studentenwerk Halle Anstalt des öffentli
DESCRIPTION:Phase: Ausschreibung | Beschreibung: Offizielle Ausschreibung mit Bieterfrist. | Link: https://ausschreibungsradar.com/ausschreibung/8446a5dd-accc-4c07-b580-c7b47e898535/
URL:https://ausschreibungsradar.com/ausschreibung/8446a5dd-accc-4c07-b580-c7b47e898535/
END:VEVENT
BEGIN:VEVENT
UID:060013faea01bbf3@ausschreibungsradar.com
DTSTAMP:20260424T135804Z
DTSTART;VALUE=DATE:20260302
DTEND;VALUE=DATE:20260302
SUMMARY:Ausschreibung — Stromausschreibung  Studentenwerk Halle Anstalt des öffentli
DESCRIPTION:Phase: Ausschreibung | Beschreibung: Offizielle Ausschreibung mit Bieterfrist. | Link: https://ausschreibungsradar.com/ausschreibung/f5d0b972-1f7b-4d60-b118-853ae1a2754c/
URL:https://ausschreibungsradar.com/ausschreibung/f5d0b972-1f7b-4d60-b118-853ae1a2754c/
END:VEVENT
BEGIN:VEVENT
UID:45dd2e911b9491a7@ausschreibungsradar.com
DTSTAMP:20260424T135804Z
DTSTART;VALUE=DATE:20260302
DTEND;VALUE=DATE:20260302
SUMMARY:Ausschreibung — Stromausschreibung  Studentenwerk Halle Anstalt des öffentli
DESCRIPTION:Phase: Ausschreibung | Beschreibung: Offizielle Ausschreibung mit Bieterfrist. | Link: https://ausschreibungsradar.com/ausschreibung/328d3197-f4db-4f27-a319-f93b5ead6e64/
URL:https://ausschreibungsradar.com/ausschreibung/328d3197-f4db-4f27-a319-f93b5ead6e64/
END:VEVENT
BEGIN:VEVENT
UID:6d4301fd5d7ee0f4@ausschreibungsradar.com
DTSTAMP:20260424T135804Z
DTSTART;VALUE=DATE:20260302
DTEND;VALUE=DATE:20260302
SUMMARY:Ausschreibung — Stromausschreibung  Studentenwerk Halle Anstalt des öffentli
DESCRIPTION:Phase: Ausschreibung | Beschreibung: Offizielle Ausschreibung mit Bieterfrist. | Link: https://ausschreibungsradar.com/ausschreibung/121bd3f6-caed-47ba-9465-78b39af7f937/
URL:https://ausschreibungsradar.com/ausschreibung/121bd3f6-caed-47ba-9465-78b39af7f937/
END:VEVENT
BEGIN:VEVENT
UID:10e18e8881a643a6@ausschreibungsradar.com
DTSTAMP:20260424T135804Z
DTSTART;VALUE=DATE:20260302
DTEND;VALUE=DATE:20260302
SUMMARY:Ausschreibung — Stromausschreibung  Studentenwerk Halle Anstalt des öffentli
DESCRIPTION:Phase: Ausschreibung | Beschreibung: Offizielle Ausschreibung mit Bieterfrist. | Link: https://ausschreibungsradar.com/ausschreibung/5368a64f-34f4-4f6c-b127-134e4c6fc041/
URL:https://ausschreibungsradar.com/ausschreibung/5368a64f-34f4-4f6c-b127-134e4c6fc041/
END:VEVENT
BEGIN:VEVENT
UID:3b5ebed7e839d1da@ausschreibungsradar.com
DTSTAMP:20260424T135804Z
DTSTART;VALUE=DATE:20260302
DTEND;VALUE=DATE:20260302
SUMMARY:Ausschreibung — Stromausschreibung  Studentenwerk Halle Anstalt des öffentli
DESCRIPTION:Phase: Ausschreibung | Beschreibung: Offizielle Ausschreibung mit Bieterfrist. | Link: https://ausschreibungsradar.com/ausschreibung/37cdef4a-5f10-4df0-8f5b-8f558a444d40/
URL:https://ausschreibungsradar.com/ausschreibung/37cdef4a-5f10-4df0-8f5b-8f558a444d40/
END:VEVENT
END:VCALENDAR
