BEGIN:VCALENDAR
VERSION:2.0
PRODID:-//AusschreibungsRadar//Timeline//DE
CALSCALE:GREGORIAN
METHOD:PUBLISH
X-WR-CALNAME:Projekt SHKL - Wartungs- und Instandhaltungskontrakt HKW-Mannheim
X-WR-TIMEZONE:Europe/Berlin
BEGIN:VEVENT
UID:2c34f2a0d8e6655b@ausschreibungsradar.com
DTSTAMP:20260425T161833Z
DTSTART;VALUE=DATE:20250728
DTEND;VALUE=DATE:20250728
SUMMARY:Ausschreibung — SHKL - Wartungs- und Instandhaltungskontrakt HKW-Mannheim
DESCRIPTION:Phase: Ausschreibung | Beschreibung: Angebote werden eingeholt | Link: https://ausschreibungsradar.com/ausschreibung/c4359afe-5ffc-4826-ba32-60b0bfabfc60/ | Geschätzter Wert: 2100000 €
URL:https://ausschreibungsradar.com/ausschreibung/c4359afe-5ffc-4826-ba32-60b0bfabfc60/
END:VEVENT
BEGIN:VEVENT
UID:b51ccea72f7646a2@ausschreibungsradar.com
DTSTAMP:20260425T161833Z
DTSTART;VALUE=DATE:20260121
DTEND;VALUE=DATE:20260121
SUMMARY:Vergabeergebnis — SHKL - Wartungs- und Instandhaltungskontrakt HKW-Mannheim
DESCRIPTION:Phase: Vergabeergebnis | Beschreibung: Auftrag wurde zugeschlagen | Link: https://ausschreibungsradar.com/ausschreibung/849cb8ee-7188-4cc6-a32b-bdd22351341c/ | Geschätzter Wert: 2100000 €
URL:https://ausschreibungsradar.com/ausschreibung/849cb8ee-7188-4cc6-a32b-bdd22351341c/
END:VEVENT
END:VCALENDAR
