BEGIN:VCALENDAR
VERSION:2.0
PRODID:-//AusschreibungsRadar//Timeline//DE
CALSCALE:GREGORIAN
METHOD:PUBLISH
X-WR-CALNAME:Projekt Herstellung und Lieferung eines flexiblen Treff- und Veranst
X-WR-TIMEZONE:Europe/Berlin
BEGIN:VEVENT
UID:8be720541f757a7f@ausschreibungsradar.com
DTSTAMP:20260426T004525Z
DTSTART;VALUE=DATE:20251201
DTEND;VALUE=DATE:20251201
SUMMARY:Angebotsfrist — Herstellung und Lieferung eines flexiblen Treff- und Veranst
DESCRIPTION:Phase: Ausschreibung | Beschreibung: Angebote werden eingeholt | Link: https://ausschreibungsradar.com/ausschreibung/849d3d50-d90f-4821-9fc0-c53f078a0828/
URL:https://ausschreibungsradar.com/ausschreibung/849d3d50-d90f-4821-9fc0-c53f078a0828/
END:VEVENT
END:VCALENDAR
