BEGIN:VCALENDAR
VERSION:2.0
PRODID:-//AusschreibungsRadar//Timeline//DE
CALSCALE:GREGORIAN
METHOD:PUBLISH
X-WR-CALNAME:Projekt Managed Workplace 2026
X-WR-TIMEZONE:Europe/Berlin
BEGIN:VEVENT
UID:b38c5e07f184c8ee@ausschreibungsradar.com
DTSTAMP:20260424T133259Z
DTSTART;VALUE=DATE:20260416
DTEND;VALUE=DATE:20260416
SUMMARY:Angebotsfrist — Managed Workplace 2026
DESCRIPTION:Phase: Ausschreibung | Beschreibung: Angebote werden eingeholt | Link: https://ausschreibungsradar.com/ausschreibung/84c01cec-c8c6-4456-93d0-e05f9e8441dc/
URL:https://ausschreibungsradar.com/ausschreibung/84c01cec-c8c6-4456-93d0-e05f9e8441dc/
END:VEVENT
BEGIN:VEVENT
UID:a045f77305a4b8a7@ausschreibungsradar.com
DTSTAMP:20260424T133259Z
DTSTART;VALUE=DATE:20260302
DTEND;VALUE=DATE:20260302
SUMMARY:Ausschreibung — Managed Workplace 2026
DESCRIPTION:Phase: Ausschreibung | Beschreibung: Offizielle Ausschreibung mit Bieterfrist. | Link: https://ausschreibungsradar.com/ausschreibung/2b1c41cd-eb4d-4ed6-b87f-c354272f9c45/
URL:https://ausschreibungsradar.com/ausschreibung/2b1c41cd-eb4d-4ed6-b87f-c354272f9c45/
END:VEVENT
END:VCALENDAR
