BEGIN:VCALENDAR
VERSION:2.0
PRODID:-//AusschreibungsRadar//Timeline//DE
CALSCALE:GREGORIAN
METHOD:PUBLISH
X-WR-CALNAME:Projekt Generalplanerleistungen für Bezirkszentrum mit Lager- und Lo
X-WR-TIMEZONE:Europe/Berlin
BEGIN:VEVENT
UID:cae4aeb3b7edcca9@ausschreibungsradar.com
DTSTAMP:20260425T130125Z
DTSTART;VALUE=DATE:20241028
DTEND;VALUE=DATE:20241028
SUMMARY:Ausschreibung — Generalplanerleistungen für Bezirkszentrum mit Lager- und Lo
DESCRIPTION:Phase: Ausschreibung | Beschreibung: Offizielle Ausschreibung mit Bieterfrist. | Link: https://ausschreibungsradar.com/ausschreibung/ac60d25b-8357-4188-bd57-25d2f89eb034/
URL:https://ausschreibungsradar.com/ausschreibung/ac60d25b-8357-4188-bd57-25d2f89eb034/
END:VEVENT
BEGIN:VEVENT
UID:74feeff85a4378d2@ausschreibungsradar.com
DTSTAMP:20260425T130125Z
DTSTART;VALUE=DATE:20241029
DTEND;VALUE=DATE:20241029
SUMMARY:Zuschlag — Generalplanerleistungen für Bezirkszentrum mit Lager- und Lo
DESCRIPTION:Phase: Zuschlag | Beschreibung: Vergabeergebnis — Auftrag wurde erteilt oder Verfahren beendet. | Link: https://ausschreibungsradar.com/ausschreibung/b33c5ea8-99d0-4249-b43e-cfc74f991ede/
URL:https://ausschreibungsradar.com/ausschreibung/b33c5ea8-99d0-4249-b43e-cfc74f991ede/
END:VEVENT
BEGIN:VEVENT
UID:1c32ae08604a0777@ausschreibungsradar.com
DTSTAMP:20260425T130125Z
DTSTART;VALUE=DATE:20241030
DTEND;VALUE=DATE:20241030
SUMMARY:Ausschreibung — Generalplanerleistungen für Bezirkszentrum mit Lager- und Lo
DESCRIPTION:Phase: Ausschreibung | Beschreibung: Angebote werden eingeholt | Link: https://ausschreibungsradar.com/ausschreibung/84c4c777-cf01-4f65-ab7c-acadb92b32f1/
URL:https://ausschreibungsradar.com/ausschreibung/84c4c777-cf01-4f65-ab7c-acadb92b32f1/
END:VEVENT
BEGIN:VEVENT
UID:0e8d7eadf460900e@ausschreibungsradar.com
DTSTAMP:20260425T130125Z
DTSTART;VALUE=DATE:20250224
DTEND;VALUE=DATE:20250224
SUMMARY:Vergabeergebnis — Generalplanerleistungen für Bezirkszentrum mit Lager- und Lo
DESCRIPTION:Phase: Vergabeergebnis | Beschreibung: Auftrag wurde zugeschlagen | Link: https://ausschreibungsradar.com/ausschreibung/0a30b703-3974-4c6e-b593-38017ae133b2/
URL:https://ausschreibungsradar.com/ausschreibung/0a30b703-3974-4c6e-b593-38017ae133b2/
END:VEVENT
END:VCALENDAR
