BEGIN:VCALENDAR
VERSION:2.0
PRODID:-//AusschreibungsRadar//Timeline//DE
CALSCALE:GREGORIAN
METHOD:PUBLISH
X-WR-CALNAME:Projekt Wohnquartier Nord Hugo-Köcke-Weg Westerland/Sylt - Leistunge
X-WR-TIMEZONE:Europe/Berlin
BEGIN:VEVENT
UID:650a622d4c1577c7@ausschreibungsradar.com
DTSTAMP:20260425T164802Z
DTSTART;VALUE=DATE:20251209
DTEND;VALUE=DATE:20251209
SUMMARY:Ausschreibung — Wohnquartier Nord Hugo-Köcke-Weg Westerland/Sylt - Leistunge
DESCRIPTION:Phase: Ausschreibung | Beschreibung: Angebote werden eingeholt | Link: https://ausschreibungsradar.com/ausschreibung/bf47f3a5-77e3-48db-8ef1-da2cd3e96bc2/
URL:https://ausschreibungsradar.com/ausschreibung/bf47f3a5-77e3-48db-8ef1-da2cd3e96bc2/
END:VEVENT
BEGIN:VEVENT
UID:2758b94f6ebc6341@ausschreibungsradar.com
DTSTAMP:20260425T164802Z
DTSTART;VALUE=DATE:20260415
DTEND;VALUE=DATE:20260415
SUMMARY:Vergabeergebnis — Wohnquartier Nord Hugo-Köcke-Weg Westerland/Sylt - Leistunge
DESCRIPTION:Phase: Vergabeergebnis | Beschreibung: Auftrag wurde zugeschlagen | Link: https://ausschreibungsradar.com/ausschreibung/85496d2b-a534-42b6-910f-1546802c1ba6/
URL:https://ausschreibungsradar.com/ausschreibung/85496d2b-a534-42b6-910f-1546802c1ba6/
END:VEVENT
BEGIN:VEVENT
UID:b0cd897faf00a2ec@ausschreibungsradar.com
DTSTAMP:20260425T164802Z
DTSTART;VALUE=DATE:20260420
DTEND;VALUE=DATE:20260420
SUMMARY:Zuschlag — Wohnquartier Nord Hugo-Köcke-Weg Westerland/Sylt - Leistunge
DESCRIPTION:Phase: Zuschlag | Beschreibung: Vergabeergebnis — Auftrag wurde erteilt oder Verfahren beendet. | Link: https://ausschreibungsradar.com/ausschreibung/daccba63-b5f5-4552-9987-7d48679e6e19/
URL:https://ausschreibungsradar.com/ausschreibung/daccba63-b5f5-4552-9987-7d48679e6e19/
END:VEVENT
END:VCALENDAR
