BEGIN:VCALENDAR
VERSION:2.0
PRODID:-//AusschreibungsRadar//Timeline//DE
CALSCALE:GREGORIAN
METHOD:PUBLISH
X-WR-CALNAME:Projekt Vergabe von Verkehrsleistungen im straßengebundenen ÖPNV auf
X-WR-TIMEZONE:Europe/Berlin
BEGIN:VEVENT
UID:3024687d58c21d0f@ausschreibungsradar.com
DTSTAMP:20260425T023059Z
DTSTART;VALUE=DATE:20260408
DTEND;VALUE=DATE:20260408
SUMMARY:Angebotsfrist — Vergabe von Verkehrsleistungen im straßengebundenen ÖPNV auf
DESCRIPTION:Phase: Ausschreibung | Beschreibung: Angebote werden eingeholt | Link: https://ausschreibungsradar.com/ausschreibung/8553380d-e167-4a46-8530-aeeb63ae6ba3/
URL:https://ausschreibungsradar.com/ausschreibung/8553380d-e167-4a46-8530-aeeb63ae6ba3/
END:VEVENT
BEGIN:VEVENT
UID:625eb5c12b7e67cc@ausschreibungsradar.com
DTSTAMP:20260425T023059Z
DTSTART;VALUE=DATE:20260308
DTEND;VALUE=DATE:20260308
SUMMARY:Ausschreibung — Vergabe von Verkehrsleistungen im straßengebundenen ÖPNV auf
DESCRIPTION:Phase: Ausschreibung | Beschreibung: Offizielle Ausschreibung mit Bieterfrist. | Link: https://ausschreibungsradar.com/ausschreibung/7baba977-5b94-47eb-875b-352b1e3a3950/
URL:https://ausschreibungsradar.com/ausschreibung/7baba977-5b94-47eb-875b-352b1e3a3950/
END:VEVENT
END:VCALENDAR
