BEGIN:VCALENDAR
VERSION:2.0
PRODID:-//AusschreibungsRadar//Timeline//DE
CALSCALE:GREGORIAN
METHOD:PUBLISH
X-WR-CALNAME:Projekt Generalsanierung und Erweiterung der Grund- und Mittelschule
X-WR-TIMEZONE:Europe/Berlin
BEGIN:VEVENT
UID:d90cd322b53e5473@ausschreibungsradar.com
DTSTAMP:20260425T134900Z
DTSTART;VALUE=DATE:20250908
DTEND;VALUE=DATE:20250908
SUMMARY:Angebotsfrist — Generalsanierung und Erweiterung der Grund- und Mittelschule
DESCRIPTION:Phase: Ausschreibung | Beschreibung: Angebote werden eingeholt | Link: https://ausschreibungsradar.com/ausschreibung/85644a53-43c6-4f8d-a9ef-8ec2ad9860f6/
URL:https://ausschreibungsradar.com/ausschreibung/85644a53-43c6-4f8d-a9ef-8ec2ad9860f6/
END:VEVENT
BEGIN:VEVENT
UID:5d11be3d4555e970@ausschreibungsradar.com
DTSTAMP:20260425T134900Z
DTSTART;VALUE=DATE:20250808
DTEND;VALUE=DATE:20250808
SUMMARY:Ausschreibung — Generalsanierung und Erweiterung der Grund- und Mittelschule
DESCRIPTION:Phase: Ausschreibung | Beschreibung: Offizielle Ausschreibung mit Bieterfrist. | Link: https://ausschreibungsradar.com/ausschreibung/daf732a7-16a4-4d38-b1d5-576e1412ba8e/
URL:https://ausschreibungsradar.com/ausschreibung/daf732a7-16a4-4d38-b1d5-576e1412ba8e/
END:VEVENT
BEGIN:VEVENT
UID:1ee70c72a7f05f1e@ausschreibungsradar.com
DTSTAMP:20260425T134900Z
DTSTART;VALUE=DATE:20250930
DTEND;VALUE=DATE:20250930
SUMMARY:Vergabeergebnis — Generalsanierung und Erweiterung der Grund- und Mittelschule
DESCRIPTION:Phase: Vergabeergebnis | Beschreibung: Auftrag wurde zugeschlagen | Link: https://ausschreibungsradar.com/ausschreibung/c86fbbad-c145-4a2c-9e88-e7ea31d71dca/
URL:https://ausschreibungsradar.com/ausschreibung/c86fbbad-c145-4a2c-9e88-e7ea31d71dca/
END:VEVENT
END:VCALENDAR
