BEGIN:VCALENDAR
VERSION:2.0
PRODID:-//AusschreibungsRadar//Timeline//DE
CALSCALE:GREGORIAN
METHOD:PUBLISH
X-WR-CALNAME:Projekt Schadstoffsanierung, Entkernung und Gebäuderückbau- Bauteil 
X-WR-TIMEZONE:Europe/Berlin
BEGIN:VEVENT
UID:e03ff1d6c3fa0f1e@ausschreibungsradar.com
DTSTAMP:20260424T062723Z
DTSTART;VALUE=DATE:20240429
DTEND;VALUE=DATE:20240429
SUMMARY:Ausschreibung — Schadstoffsanierung\, Entkernung und Gebäuderückbau- Bauteil 
DESCRIPTION:Phase: Ausschreibung | Beschreibung: Angebote werden eingeholt | Link: https://ausschreibungsradar.com/ausschreibung/1b435e1f-b956-4aef-b97f-6321b6ab3356/
URL:https://ausschreibungsradar.com/ausschreibung/1b435e1f-b956-4aef-b97f-6321b6ab3356/
END:VEVENT
BEGIN:VEVENT
UID:15b3aef34885cfdd@ausschreibungsradar.com
DTSTAMP:20260424T062723Z
DTSTART;VALUE=DATE:20240808
DTEND;VALUE=DATE:20240808
SUMMARY:Vergabeergebnis — Schadstoffsanierung\, Entkernung und Gebäuderückbau- Bauteil 
DESCRIPTION:Phase: Vergabeergebnis | Beschreibung: Auftrag wurde zugeschlagen | Link: https://ausschreibungsradar.com/ausschreibung/856debc9-c79c-44bd-b28f-274e0ec55c09/
URL:https://ausschreibungsradar.com/ausschreibung/856debc9-c79c-44bd-b28f-274e0ec55c09/
END:VEVENT
END:VCALENDAR
