BEGIN:VCALENDAR
VERSION:2.0
PRODID:-//AusschreibungsRadar//Timeline//DE
CALSCALE:GREGORIAN
METHOD:PUBLISH
X-WR-CALNAME:Projekt TSF-W mit Beladung für die Stadt Geiselhöring, Lkr. Straubin
X-WR-TIMEZONE:Europe/Berlin
BEGIN:VEVENT
UID:b86c15bf7ab71d5b@ausschreibungsradar.com
DTSTAMP:20260424T092557Z
DTSTART;VALUE=DATE:20240909
DTEND;VALUE=DATE:20240909
SUMMARY:Ausschreibung — TSF-W mit Beladung für die Stadt Geiselhöring\, Lkr. Straubin
DESCRIPTION:Phase: Ausschreibung | Beschreibung: Angebote werden eingeholt | Link: https://ausschreibungsradar.com/ausschreibung/85dee559-a092-4b82-9f06-b4487368a730/
URL:https://ausschreibungsradar.com/ausschreibung/85dee559-a092-4b82-9f06-b4487368a730/
END:VEVENT
BEGIN:VEVENT
UID:85bca27c247687b3@ausschreibungsradar.com
DTSTAMP:20260424T092557Z
DTSTART;VALUE=DATE:20241128
DTEND;VALUE=DATE:20241128
SUMMARY:Vergabeergebnis — TSF-W mit Beladung für die Stadt Geiselhöring\, Lkr. Straubin
DESCRIPTION:Phase: Vergabeergebnis | Beschreibung: Auftrag wurde zugeschlagen | Link: https://ausschreibungsradar.com/ausschreibung/3554d4b6-ba87-4e40-9aa4-090effa2f219/
URL:https://ausschreibungsradar.com/ausschreibung/3554d4b6-ba87-4e40-9aa4-090effa2f219/
END:VEVENT
END:VCALENDAR
