BEGIN:VCALENDAR
VERSION:2.0
PRODID:-//AusschreibungsRadar//Timeline//DE
CALSCALE:GREGORIAN
METHOD:PUBLISH
X-WR-CALNAME:Projekt test tender object - should describe the object...
X-WR-TIMEZONE:Europe/Berlin
BEGIN:VEVENT
UID:d8c0a75632d7d334@ausschreibungsradar.com
DTSTAMP:20260424T203822Z
DTSTART;VALUE=DATE:20231204
DTEND;VALUE=DATE:20231204
SUMMARY:Ausschreibung — test tender object - should describe the object...
DESCRIPTION:Phase: Ausschreibung | Beschreibung: Offizielle Ausschreibung mit Bieterfrist. | Link: https://ausschreibungsradar.com/ausschreibung/869d8fab-be6c-4c67-9679-12fd56b73d98/
URL:https://ausschreibungsradar.com/ausschreibung/869d8fab-be6c-4c67-9679-12fd56b73d98/
END:VEVENT
BEGIN:VEVENT
UID:7c8e4f55c8f7f032@ausschreibungsradar.com
DTSTAMP:20260424T203822Z
DTSTART;VALUE=DATE:20240101
DTEND;VALUE=DATE:20240101
SUMMARY:Ausschreibung — test tender object - should describe the object...
DESCRIPTION:Phase: Ausschreibung | Beschreibung: Offizielle Ausschreibung mit Bieterfrist. | Link: https://ausschreibungsradar.com/ausschreibung/434095a7-8fbc-414f-aa11-75a90bcd8af9/
URL:https://ausschreibungsradar.com/ausschreibung/434095a7-8fbc-414f-aa11-75a90bcd8af9/
END:VEVENT
END:VCALENDAR
