BEGIN:VCALENDAR
VERSION:2.0
PRODID:-//AusschreibungsRadar//Timeline//DE
CALSCALE:GREGORIAN
METHOD:PUBLISH
X-WR-CALNAME:Projekt Lieferung von technischer Ausrüstung für ein Berufsbildungsz
X-WR-TIMEZONE:Europe/Berlin
BEGIN:VEVENT
UID:5af567a114e4d825@ausschreibungsradar.com
DTSTAMP:20260424T105446Z
DTSTART;VALUE=DATE:20250925
DTEND;VALUE=DATE:20250925
SUMMARY:Angebotsfrist — Lieferung von technischer Ausrüstung für ein Berufsbildungsz
DESCRIPTION:Phase: Ausschreibung | Beschreibung: Angebote werden eingeholt | Link: https://ausschreibungsradar.com/ausschreibung/939ed8ce-f762-4444-b0e1-d77c582e54cc/
URL:https://ausschreibungsradar.com/ausschreibung/939ed8ce-f762-4444-b0e1-d77c582e54cc/
END:VEVENT
BEGIN:VEVENT
UID:17551aa8a5ee2c21@ausschreibungsradar.com
DTSTAMP:20260424T105446Z
DTSTART;VALUE=DATE:20251117
DTEND;VALUE=DATE:20251117
SUMMARY:Vergabeergebnis — Lieferung von technischer Ausrüstung für ein Berufsbildungsz
DESCRIPTION:Phase: Vergabeergebnis | Beschreibung: Auftrag wurde zugeschlagen | Link: https://ausschreibungsradar.com/ausschreibung/86a535b9-5550-4e94-9c3e-ac40cbdfa1de/
URL:https://ausschreibungsradar.com/ausschreibung/86a535b9-5550-4e94-9c3e-ac40cbdfa1de/
END:VEVENT
BEGIN:VEVENT
UID:8a2e4453f71995a1@ausschreibungsradar.com
DTSTAMP:20260424T105446Z
DTSTART;VALUE=DATE:20251117
DTEND;VALUE=DATE:20251117
SUMMARY:Zuschlag — Lieferung von technischer Ausrüstung für ein Berufsbildungsz
DESCRIPTION:Phase: Zuschlag | Beschreibung: Vergabeergebnis — Auftrag wurde erteilt oder Verfahren beendet. | Link: https://ausschreibungsradar.com/ausschreibung/76a535b9-5550-4e94-9c3e-ac40cbdfa1dd/
URL:https://ausschreibungsradar.com/ausschreibung/76a535b9-5550-4e94-9c3e-ac40cbdfa1dd/
END:VEVENT
END:VCALENDAR
