BEGIN:VCALENDAR
VERSION:2.0
PRODID:-//AusschreibungsRadar//Timeline//DE
CALSCALE:GREGORIAN
METHOD:PUBLISH
X-WR-CALNAME:Projekt ARV - Beseitigung Ölverunreinig. u. gefährl. Abfällen im Hav
X-WR-TIMEZONE:Europe/Berlin
BEGIN:VEVENT
UID:0b368842c21d4b0d@ausschreibungsradar.com
DTSTAMP:20260424T155441Z
DTSTART;VALUE=DATE:20250909
DTEND;VALUE=DATE:20250909
SUMMARY:Ausschreibung — ARV - Beseitigung Ölverunreinig. u. gefährl. Abfällen im Hav
DESCRIPTION:Phase: Ausschreibung | Beschreibung: Angebote werden eingeholt | Link: https://ausschreibungsradar.com/ausschreibung/86a62e74-c2b2-43e4-9541-dc145db4c531/
URL:https://ausschreibungsradar.com/ausschreibung/86a62e74-c2b2-43e4-9541-dc145db4c531/
END:VEVENT
BEGIN:VEVENT
UID:4f8a8941d93e98bc@ausschreibungsradar.com
DTSTAMP:20260424T155441Z
DTSTART;VALUE=DATE:20250909
DTEND;VALUE=DATE:20250909
SUMMARY:Ausschreibung — ARV - Beseitigung Ölverunreinig. u. gefährl. Abfällen im Hav
DESCRIPTION:Phase: Ausschreibung | Beschreibung: Offizielle Ausschreibung mit Bieterfrist. | Link: https://ausschreibungsradar.com/ausschreibung/867432b0-375d-4a12-960f-b51163bcf0b0/
URL:https://ausschreibungsradar.com/ausschreibung/867432b0-375d-4a12-960f-b51163bcf0b0/
END:VEVENT
BEGIN:VEVENT
UID:3e264d5212062616@ausschreibungsradar.com
DTSTAMP:20260424T155441Z
DTSTART;VALUE=DATE:20250909
DTEND;VALUE=DATE:20250909
SUMMARY:Ausschreibung — ARV - Beseitigung Ölverunreinig. u. gefährl. Abfällen im Hav
DESCRIPTION:Phase: Ausschreibung | Beschreibung: Offizielle Ausschreibung mit Bieterfrist. | Link: https://ausschreibungsradar.com/ausschreibung/69a64d1e-4fd3-45ad-bab8-160b775753bb/
URL:https://ausschreibungsradar.com/ausschreibung/69a64d1e-4fd3-45ad-bab8-160b775753bb/
END:VEVENT
BEGIN:VEVENT
UID:b025300d7dd72794@ausschreibungsradar.com
DTSTAMP:20260424T155441Z
DTSTART;VALUE=DATE:20250909
DTEND;VALUE=DATE:20250909
SUMMARY:Ausschreibung — ARV - Beseitigung Ölverunreinig. u. gefährl. Abfällen im Hav
DESCRIPTION:Phase: Ausschreibung | Beschreibung: Offizielle Ausschreibung mit Bieterfrist. | Link: https://ausschreibungsradar.com/ausschreibung/93ba7859-f610-4e5a-97de-cf5717a02a4d/
URL:https://ausschreibungsradar.com/ausschreibung/93ba7859-f610-4e5a-97de-cf5717a02a4d/
END:VEVENT
BEGIN:VEVENT
UID:1c4c66ee94699ff3@ausschreibungsradar.com
DTSTAMP:20260424T155441Z
DTSTART;VALUE=DATE:20251215
DTEND;VALUE=DATE:20251215
SUMMARY:Vergabeergebnis — ARV - Beseitigung Ölverunreinig. u. gefährl. Abfällen im Hav
DESCRIPTION:Phase: Vergabeergebnis | Beschreibung: Auftrag wurde zugeschlagen | Link: https://ausschreibungsradar.com/ausschreibung/b312ebd8-463a-4916-8395-192bec075f2b/
URL:https://ausschreibungsradar.com/ausschreibung/b312ebd8-463a-4916-8395-192bec075f2b/
END:VEVENT
END:VCALENDAR
