BEGIN:VCALENDAR
VERSION:2.0
PRODID:-//AusschreibungsRadar//Timeline//DE
CALSCALE:GREGORIAN
METHOD:PUBLISH
X-WR-CALNAME:Projekt Neubau Sozialwohnungen, Gotenstraße im Ortsteil Batzenhofen 
X-WR-TIMEZONE:Europe/Berlin
BEGIN:VEVENT
UID:3000fa244679db10@ausschreibungsradar.com
DTSTAMP:20260426T000833Z
DTSTART;VALUE=DATE:20250122
DTEND;VALUE=DATE:20250122
SUMMARY:Zuschlag — Neubau Sozialwohnungen\, Gotenstraße im Ortsteil Batzenhofen 
DESCRIPTION:Phase: Zuschlag | Beschreibung: Vergabeergebnis — Auftrag wurde erteilt oder Verfahren beendet. | Link: https://ausschreibungsradar.com/ausschreibung/86b037d7-9b8b-46ca-a454-ad63c1b326c6/ | Geschätzte
URL:https://ausschreibungsradar.com/ausschreibung/86b037d7-9b8b-46ca-a454-ad63c1b326c6/
END:VEVENT
BEGIN:VEVENT
UID:3adba96e341045d1@ausschreibungsradar.com
DTSTAMP:20260426T000833Z
DTSTART;VALUE=DATE:20250122
DTEND;VALUE=DATE:20250122
SUMMARY:Zuschlag — Neubau Sozialwohnungen\, Gotenstraße im Ortsteil Batzenhofen 
DESCRIPTION:Phase: Zuschlag | Beschreibung: Vergabeergebnis — Auftrag wurde erteilt oder Verfahren beendet. | Link: https://ausschreibungsradar.com/ausschreibung/3370ea62-fdaa-401c-890d-3f8de295e21b/
URL:https://ausschreibungsradar.com/ausschreibung/3370ea62-fdaa-401c-890d-3f8de295e21b/
END:VEVENT
END:VCALENDAR
