BEGIN:VCALENDAR
VERSION:2.0
PRODID:-//AusschreibungsRadar//Timeline//DE
CALSCALE:GREGORIAN
METHOD:PUBLISH
X-WR-CALNAME:Projekt POT-03-GLG-002B CT Strahlentherapie, Biplan-Anlage
X-WR-TIMEZONE:Europe/Berlin
BEGIN:VEVENT
UID:16d14d4e8eb28b81@ausschreibungsradar.com
DTSTAMP:20260426T035134Z
DTSTART;VALUE=DATE:20240801
DTEND;VALUE=DATE:20240801
SUMMARY:Angebotsfrist — POT-03-GLG-002B CT Strahlentherapie\, Biplan-Anlage
DESCRIPTION:Phase: Ausschreibung | Beschreibung: Angebote werden eingeholt | Link: https://ausschreibungsradar.com/ausschreibung/872910c3-79e8-413a-9d57-e1492d47ee59/
URL:https://ausschreibungsradar.com/ausschreibung/872910c3-79e8-413a-9d57-e1492d47ee59/
END:VEVENT
BEGIN:VEVENT
UID:b580d5d7337398f3@ausschreibungsradar.com
DTSTAMP:20260426T035134Z
DTSTART;VALUE=DATE:20241017
DTEND;VALUE=DATE:20241017
SUMMARY:Vergabeergebnis — POT-03-GLG-002B CT Strahlentherapie\, Biplan-Anlage
DESCRIPTION:Phase: Vergabeergebnis | Beschreibung: Auftrag wurde zugeschlagen | Link: https://ausschreibungsradar.com/ausschreibung/d3e93731-927c-47d4-a162-b3d1a82615af/
URL:https://ausschreibungsradar.com/ausschreibung/d3e93731-927c-47d4-a162-b3d1a82615af/
END:VEVENT
END:VCALENDAR
