BEGIN:VCALENDAR
VERSION:2.0
PRODID:-//AusschreibungsRadar//Timeline//DE
CALSCALE:GREGORIAN
METHOD:PUBLISH
X-WR-CALNAME:Projekt Gebäudereinigung
X-WR-TIMEZONE:Europe/Berlin
BEGIN:VEVENT
UID:a31002fe33f619fd@ausschreibungsradar.com
DTSTAMP:20260425T124300Z
DTSTART;VALUE=DATE:20250811
DTEND;VALUE=DATE:20250811
SUMMARY:Ausschreibung — Gebäudereinigung
DESCRIPTION:Phase: Ausschreibung | Beschreibung: Offizielle Ausschreibung mit Bieterfrist. | Link: https://ausschreibungsradar.com/ausschreibung/59133e31-1e7d-4ba1-b7a0-f51bedf94de2/
URL:https://ausschreibungsradar.com/ausschreibung/59133e31-1e7d-4ba1-b7a0-f51bedf94de2/
END:VEVENT
BEGIN:VEVENT
UID:89bb1da94fcddc0c@ausschreibungsradar.com
DTSTAMP:20260425T124300Z
DTSTART;VALUE=DATE:20250814
DTEND;VALUE=DATE:20250814
SUMMARY:Ausschreibung — Gebäudereinigung
DESCRIPTION:Phase: Ausschreibung | Beschreibung: Offizielle Ausschreibung mit Bieterfrist. | Link: https://ausschreibungsradar.com/ausschreibung/4ca84b4d-0550-472c-9466-782c58fd9bde/
URL:https://ausschreibungsradar.com/ausschreibung/4ca84b4d-0550-472c-9466-782c58fd9bde/
END:VEVENT
BEGIN:VEVENT
UID:7e4120f14cae6f71@ausschreibungsradar.com
DTSTAMP:20260425T124300Z
DTSTART;VALUE=DATE:20251023
DTEND;VALUE=DATE:20251023
SUMMARY:Angebotsfrist — Gebäudereinigung
DESCRIPTION:Phase: Ausschreibung | Beschreibung: Angebote werden eingeholt | Link: https://ausschreibungsradar.com/ausschreibung/87976146-6226-41b3-9bde-7440318ca366/ | Geschätzter Wert: 2319328 €
URL:https://ausschreibungsradar.com/ausschreibung/87976146-6226-41b3-9bde-7440318ca366/
END:VEVENT
BEGIN:VEVENT
UID:c34d98b3e9a8220e@ausschreibungsradar.com
DTSTAMP:20260425T124300Z
DTSTART;VALUE=DATE:20251002
DTEND;VALUE=DATE:20251002
SUMMARY:Ausschreibung — Gebäudereinigung
DESCRIPTION:Phase: Ausschreibung | Beschreibung: Offizielle Ausschreibung mit Bieterfrist. | Link: https://ausschreibungsradar.com/ausschreibung/4d3b5119-7a4f-4f0d-8c57-03de4b10258a/
URL:https://ausschreibungsradar.com/ausschreibung/4d3b5119-7a4f-4f0d-8c57-03de4b10258a/
END:VEVENT
BEGIN:VEVENT
UID:087e335afd279900@ausschreibungsradar.com
DTSTAMP:20260425T124300Z
DTSTART;VALUE=DATE:20251121
DTEND;VALUE=DATE:20251121
SUMMARY:Vergabeergebnis — Gebäudereinigung
DESCRIPTION:Phase: Vergabeergebnis | Beschreibung: Auftrag wurde zugeschlagen | Link: https://ausschreibungsradar.com/ausschreibung/3ff5f641-a286-4812-bf24-0bfcee9d95b1/ | Geschätzter Wert: 2319328 €
URL:https://ausschreibungsradar.com/ausschreibung/3ff5f641-a286-4812-bf24-0bfcee9d95b1/
END:VEVENT
END:VCALENDAR
