BEGIN:VCALENDAR
VERSION:2.0
PRODID:-//AusschreibungsRadar//Timeline//DE
CALSCALE:GREGORIAN
METHOD:PUBLISH
X-WR-CALNAME:Projekt eclZeno: 2.BA Neubau Grundschule u. Erweiterung Mittelschule
X-WR-TIMEZONE:Europe/Berlin
BEGIN:VEVENT
UID:159bb969a7ca3643@ausschreibungsradar.com
DTSTAMP:20260425T144544Z
DTSTART;VALUE=DATE:20251218
DTEND;VALUE=DATE:20251218
SUMMARY:Angebotsfrist — eclZeno: 2.BA Neubau Grundschule u. Erweiterung Mittelschule
DESCRIPTION:Phase: Ausschreibung | Beschreibung: Angebote werden eingeholt | Link: https://ausschreibungsradar.com/ausschreibung/87bf5d0b-6476-432f-94ba-6e26d4fb9077/
URL:https://ausschreibungsradar.com/ausschreibung/87bf5d0b-6476-432f-94ba-6e26d4fb9077/
END:VEVENT
BEGIN:VEVENT
UID:c7741693d45960ba@ausschreibungsradar.com
DTSTAMP:20260425T144544Z
DTSTART;VALUE=DATE:20251112
DTEND;VALUE=DATE:20251112
SUMMARY:Ausschreibung — eclZeno: 2.BA Neubau Grundschule u. Erweiterung Mittelschule
DESCRIPTION:Phase: Ausschreibung | Beschreibung: Offizielle Ausschreibung mit Bieterfrist. | Link: https://ausschreibungsradar.com/ausschreibung/9594fe0a-0962-423c-a633-9b7ae8f65cbf/
URL:https://ausschreibungsradar.com/ausschreibung/9594fe0a-0962-423c-a633-9b7ae8f65cbf/
END:VEVENT
BEGIN:VEVENT
UID:da105628509b22c0@ausschreibungsradar.com
DTSTAMP:20260425T144544Z
DTSTART;VALUE=DATE:20260325
DTEND;VALUE=DATE:20260325
SUMMARY:Vergabeergebnis — eclZeno: 2.BA Neubau Grundschule u. Erweiterung Mittelschule
DESCRIPTION:Phase: Vergabeergebnis | Beschreibung: Auftrag wurde zugeschlagen | Link: https://ausschreibungsradar.com/ausschreibung/20900d66-dbf7-487b-8b34-1092c988102f/ | Geschätzter Wert: 184869 €
URL:https://ausschreibungsradar.com/ausschreibung/20900d66-dbf7-487b-8b34-1092c988102f/
END:VEVENT
END:VCALENDAR
