BEGIN:VCALENDAR
VERSION:2.0
PRODID:-//AusschreibungsRadar//Timeline//DE
CALSCALE:GREGORIAN
METHOD:PUBLISH
X-WR-CALNAME:Projekt Zoo Krefeld Orang-Utan Anlage (BA.2) | Heizungs- und Sanitär
X-WR-TIMEZONE:Europe/Berlin
BEGIN:VEVENT
UID:22ad737c019eafcc@ausschreibungsradar.com
DTSTAMP:20260426T033252Z
DTSTART;VALUE=DATE:20260128
DTEND;VALUE=DATE:20260128
SUMMARY:Ausschreibung — Zoo Krefeld Orang-Utan Anlage (BA.2) | Heizungs- und Sanitär
DESCRIPTION:Phase: Ausschreibung | Beschreibung: Angebote werden eingeholt | Link: https://ausschreibungsradar.com/ausschreibung/579ea479-2b39-460e-a5a7-cbeb15dc398c/
URL:https://ausschreibungsradar.com/ausschreibung/579ea479-2b39-460e-a5a7-cbeb15dc398c/
END:VEVENT
BEGIN:VEVENT
UID:c84b4a2eab38923a@ausschreibungsradar.com
DTSTAMP:20260426T033252Z
DTSTART;VALUE=DATE:20260420
DTEND;VALUE=DATE:20260420
SUMMARY:Vergabeergebnis — Zoo Krefeld Orang-Utan Anlage (BA.2) | Heizungs- und Sanitär
DESCRIPTION:Phase: Vergabeergebnis | Beschreibung: Auftrag wurde zugeschlagen | Link: https://ausschreibungsradar.com/ausschreibung/87c361d7-86ab-4748-9f6e-1659ea311681/
URL:https://ausschreibungsradar.com/ausschreibung/87c361d7-86ab-4748-9f6e-1659ea311681/
END:VEVENT
BEGIN:VEVENT
UID:e4bf7c082de28f8b@ausschreibungsradar.com
DTSTAMP:20260426T033252Z
DTSTART;VALUE=DATE:20260420
DTEND;VALUE=DATE:20260420
SUMMARY:Zuschlag — Zoo Krefeld Orang-Utan Anlage (BA.2) | Heizungs- und Sanitär
DESCRIPTION:Phase: Zuschlag | Beschreibung: Vergabeergebnis — Auftrag wurde erteilt oder Verfahren beendet. | Link: https://ausschreibungsradar.com/ausschreibung/d95a7c98-dc6f-4ba1-b1b4-67ddc6d44943/
URL:https://ausschreibungsradar.com/ausschreibung/d95a7c98-dc6f-4ba1-b1b4-67ddc6d44943/
END:VEVENT
END:VCALENDAR
