BEGIN:VCALENDAR
VERSION:2.0
PRODID:-//AusschreibungsRadar//Timeline//DE
CALSCALE:GREGORIAN
METHOD:PUBLISH
X-WR-CALNAME:Projekt Unterhalts-, Veranstaltungs-, Grund- und Sonderreinigung ver
X-WR-TIMEZONE:Europe/Berlin
BEGIN:VEVENT
UID:1af7e8e46183a922@ausschreibungsradar.com
DTSTAMP:20260424T041849Z
DTSTART;VALUE=DATE:20240219
DTEND;VALUE=DATE:20240219
SUMMARY:Angebotsfrist — Unterhalts-\, Veranstaltungs-\, Grund- und Sonderreinigung ver
DESCRIPTION:Phase: Ausschreibung | Beschreibung: Angebote werden eingeholt | Link: https://ausschreibungsradar.com/ausschreibung/f164fbd1-bd0b-4099-9139-78d3c2b5b50f/ | Geschätzter Wert: 4440699 €
URL:https://ausschreibungsradar.com/ausschreibung/f164fbd1-bd0b-4099-9139-78d3c2b5b50f/
END:VEVENT
BEGIN:VEVENT
UID:ab0dd251cde76691@ausschreibungsradar.com
DTSTAMP:20260424T041849Z
DTSTART;VALUE=DATE:20240514
DTEND;VALUE=DATE:20240514
SUMMARY:Vergabeergebnis — Unterhalts-\, Veranstaltungs-\, Grund- und Sonderreinigung ver
DESCRIPTION:Phase: Vergabeergebnis | Beschreibung: Auftrag wurde zugeschlagen | Link: https://ausschreibungsradar.com/ausschreibung/88570b75-dd0c-4ccf-8330-48a7f1abccb6/ | Auftragnehmer: Arbeitsgemeinschaft Sturm
URL:https://ausschreibungsradar.com/ausschreibung/88570b75-dd0c-4ccf-8330-48a7f1abccb6/
END:VEVENT
END:VCALENDAR
