BEGIN:VCALENDAR
VERSION:2.0
PRODID:-//AusschreibungsRadar//Timeline//DE
CALSCALE:GREGORIAN
METHOD:PUBLISH
X-WR-CALNAME:Projekt Druckdienstleistungen Gebührenbescheide
X-WR-TIMEZONE:Europe/Berlin
BEGIN:VEVENT
UID:cc05080cf0f67f40@ausschreibungsradar.com
DTSTAMP:20260425T145131Z
DTSTART;VALUE=DATE:20240627
DTEND;VALUE=DATE:20240627
SUMMARY:Angebotsfrist — Druckdienstleistungen Gebührenbescheide
DESCRIPTION:Phase: Ausschreibung | Beschreibung: Angebote werden eingeholt | Link: https://ausschreibungsradar.com/ausschreibung/886e21c4-02b0-4ca4-beb8-a27a5afde90d/ | Geschätzter Wert: 615600 €
URL:https://ausschreibungsradar.com/ausschreibung/886e21c4-02b0-4ca4-beb8-a27a5afde90d/
END:VEVENT
BEGIN:VEVENT
UID:852c107bad9a100c@ausschreibungsradar.com
DTSTAMP:20260425T145131Z
DTSTART;VALUE=DATE:20240527
DTEND;VALUE=DATE:20240527
SUMMARY:Ausschreibung — Druckdienstleistungen Gebührenbescheide
DESCRIPTION:Phase: Ausschreibung | Beschreibung: Offizielle Ausschreibung mit Bieterfrist. | Link: https://ausschreibungsradar.com/ausschreibung/aecbfc95-c499-4b81-bd51-c7dc1d691326/
URL:https://ausschreibungsradar.com/ausschreibung/aecbfc95-c499-4b81-bd51-c7dc1d691326/
END:VEVENT
BEGIN:VEVENT
UID:1fe8d9abf10ca7e0@ausschreibungsradar.com
DTSTAMP:20260425T145131Z
DTSTART;VALUE=DATE:20240529
DTEND;VALUE=DATE:20240529
SUMMARY:Ausschreibung — Druckdienstleistungen Gebührenbescheide
DESCRIPTION:Phase: Ausschreibung | Beschreibung: Offizielle Ausschreibung mit Bieterfrist. | Link: https://ausschreibungsradar.com/ausschreibung/ted-315897-2024/
URL:https://ausschreibungsradar.com/ausschreibung/ted-315897-2024/
END:VEVENT
BEGIN:VEVENT
UID:2ca3c03ae5ffff07@ausschreibungsradar.com
DTSTAMP:20260425T145131Z
DTSTART;VALUE=DATE:20240911
DTEND;VALUE=DATE:20240911
SUMMARY:Vergabeergebnis — Druckdienstleistungen Gebührenbescheide
DESCRIPTION:Phase: Vergabeergebnis | Beschreibung: Auftrag wurde zugeschlagen | Link: https://ausschreibungsradar.com/ausschreibung/245208b7-9a93-4edd-ba7b-1c2738f349dc/ | Geschätzter Wert: 615600 €
URL:https://ausschreibungsradar.com/ausschreibung/245208b7-9a93-4edd-ba7b-1c2738f349dc/
END:VEVENT
END:VCALENDAR
