BEGIN:VCALENDAR
VERSION:2.0
PRODID:-//AusschreibungsRadar//Timeline//DE
CALSCALE:GREGORIAN
METHOD:PUBLISH
X-WR-CALNAME:Projekt Beschaffung eines Feuerwerhfahrzeuges TLF3000
X-WR-TIMEZONE:Europe/Berlin
BEGIN:VEVENT
UID:19628797fb60b8ab@ausschreibungsradar.com
DTSTAMP:20260426T025335Z
DTSTART;VALUE=DATE:20241204
DTEND;VALUE=DATE:20241204
SUMMARY:Angebotsfrist — Beschaffung eines Feuerwerhfahrzeuges TLF3000
DESCRIPTION:Phase: Ausschreibung | Beschreibung: Angebote werden eingeholt | Link: https://ausschreibungsradar.com/ausschreibung/0866cca4-333e-4447-be60-a8dfa417062e/ | Geschätzter Wert: 324000 €
URL:https://ausschreibungsradar.com/ausschreibung/0866cca4-333e-4447-be60-a8dfa417062e/
END:VEVENT
BEGIN:VEVENT
UID:fd23df0f12b3acf1@ausschreibungsradar.com
DTSTAMP:20260426T025335Z
DTSTART;VALUE=DATE:20241220
DTEND;VALUE=DATE:20241220
SUMMARY:Vergabeergebnis — Beschaffung eines Feuerwerhfahrzeuges TLF3000
DESCRIPTION:Phase: Vergabeergebnis | Beschreibung: Auftrag wurde zugeschlagen | Link: https://ausschreibungsradar.com/ausschreibung/88c8ce34-82f7-411a-acf0-631d04eff4f3/ | Geschätzter Wert: 324000 €
URL:https://ausschreibungsradar.com/ausschreibung/88c8ce34-82f7-411a-acf0-631d04eff4f3/
END:VEVENT
END:VCALENDAR
