BEGIN:VCALENDAR
VERSION:2.0
PRODID:-//AusschreibungsRadar//Timeline//DE
CALSCALE:GREGORIAN
METHOD:PUBLISH
X-WR-CALNAME:Projekt Rahmenvertrag Wasser- und Abwasserinstallationen
X-WR-TIMEZONE:Europe/Berlin
BEGIN:VEVENT
UID:0b0899b911aea1b4@ausschreibungsradar.com
DTSTAMP:20260425T101836Z
DTSTART;VALUE=DATE:20240925
DTEND;VALUE=DATE:20240925
SUMMARY:Angebotsfrist — Rahmenvertrag Wasser- und Abwasserinstallationen
DESCRIPTION:Phase: Ausschreibung | Beschreibung: Angebote werden eingeholt | Link: https://ausschreibungsradar.com/ausschreibung/89405b1c-a6bf-489d-860b-a562b5d29f40/
URL:https://ausschreibungsradar.com/ausschreibung/89405b1c-a6bf-489d-860b-a562b5d29f40/
END:VEVENT
BEGIN:VEVENT
UID:243ad60b0bc63d06@ausschreibungsradar.com
DTSTAMP:20260425T101836Z
DTSTART;VALUE=DATE:20240820
DTEND;VALUE=DATE:20240820
SUMMARY:Ausschreibung — Rahmenvertrag Wasser- und Abwasserinstallationen
DESCRIPTION:Phase: Ausschreibung | Beschreibung: Offizielle Ausschreibung mit Bieterfrist. | Link: https://ausschreibungsradar.com/ausschreibung/76aada31-ae17-46fb-9e8b-3fe64049794e/
URL:https://ausschreibungsradar.com/ausschreibung/76aada31-ae17-46fb-9e8b-3fe64049794e/
END:VEVENT
BEGIN:VEVENT
UID:8eccb69675cea7df@ausschreibungsradar.com
DTSTAMP:20260425T101836Z
DTSTART;VALUE=DATE:20241106
DTEND;VALUE=DATE:20241106
SUMMARY:Vergabeergebnis — Rahmenvertrag Wasser- und Abwasserinstallationen
DESCRIPTION:Phase: Vergabeergebnis | Beschreibung: Auftrag wurde zugeschlagen | Link: https://ausschreibungsradar.com/ausschreibung/3aa8d306-465c-46cb-952b-b79140b17107/ | Auftragnehmer: Hans-F. Muster - Sanitäre
URL:https://ausschreibungsradar.com/ausschreibung/3aa8d306-465c-46cb-952b-b79140b17107/
END:VEVENT
END:VCALENDAR
