BEGIN:VCALENDAR
VERSION:2.0
PRODID:-//AusschreibungsRadar//Timeline//DE
CALSCALE:GREGORIAN
METHOD:PUBLISH
X-WR-CALNAME:Projekt E661 - Beseitigung Wasserschäden
X-WR-TIMEZONE:Europe/Berlin
BEGIN:VEVENT
UID:4f064a13981747f0@ausschreibungsradar.com
DTSTAMP:20260425T194313Z
DTSTART;VALUE=DATE:20241125
DTEND;VALUE=DATE:20241125
SUMMARY:Ausschreibung — E661 - Beseitigung Wasserschäden
DESCRIPTION:Phase: Ausschreibung | Beschreibung: Angebote werden eingeholt | Link: https://ausschreibungsradar.com/ausschreibung/89744840-9930-4352-9365-abe69a3d43ef/
URL:https://ausschreibungsradar.com/ausschreibung/89744840-9930-4352-9365-abe69a3d43ef/
END:VEVENT
BEGIN:VEVENT
UID:58b513e15b7fb20d@ausschreibungsradar.com
DTSTAMP:20260425T194313Z
DTSTART;VALUE=DATE:20241125
DTEND;VALUE=DATE:20241125
SUMMARY:Änderung — E661 - Beseitigung Wasserschäden
DESCRIPTION:Phase: Änderung | Beschreibung: Verfahren abgebrochen | Link: https://ausschreibungsradar.com/ausschreibung/89744840-9930-4352-9365-abe69a3d43ef/
URL:https://ausschreibungsradar.com/ausschreibung/89744840-9930-4352-9365-abe69a3d43ef/
END:VEVENT
END:VCALENDAR
