BEGIN:VCALENDAR
VERSION:2.0
PRODID:-//AusschreibungsRadar//Timeline//DE
CALSCALE:GREGORIAN
METHOD:PUBLISH
X-WR-CALNAME:Projekt Erweiterung-Erneuerung Lagunen-Erlebnisbad, 34508 Willingen 
X-WR-TIMEZONE:Europe/Berlin
BEGIN:VEVENT
UID:988841aedba24abe@ausschreibungsradar.com
DTSTAMP:20260424T205210Z
DTSTART;VALUE=DATE:20240626
DTEND;VALUE=DATE:20240626
SUMMARY:Zuschlag — Erweiterung-Erneuerung Lagunen-Erlebnisbad\, 34508 Willingen 
DESCRIPTION:Phase: Zuschlag | Beschreibung: Vergabeergebnis — Auftrag wurde erteilt oder Verfahren beendet. | Link: https://ausschreibungsradar.com/ausschreibung/0c91f012-f01b-4028-8595-c8395829ff20/
URL:https://ausschreibungsradar.com/ausschreibung/0c91f012-f01b-4028-8595-c8395829ff20/
END:VEVENT
BEGIN:VEVENT
UID:22fb82df9dbd8f6e@ausschreibungsradar.com
DTSTAMP:20260424T205210Z
DTSTART;VALUE=DATE:20240627
DTEND;VALUE=DATE:20240627
SUMMARY:Ausschreibung — Erweiterung-Erneuerung Lagunen-Erlebnisbad\, 34508 Willingen 
DESCRIPTION:Phase: Ausschreibung | Beschreibung: Offizielle Ausschreibung mit Bieterfrist. | Link: https://ausschreibungsradar.com/ausschreibung/d3243028-d674-4372-9fa8-a2440ef99dcd/
URL:https://ausschreibungsradar.com/ausschreibung/d3243028-d674-4372-9fa8-a2440ef99dcd/
END:VEVENT
BEGIN:VEVENT
UID:24f671b0eec9ee09@ausschreibungsradar.com
DTSTAMP:20260424T205210Z
DTSTART;VALUE=DATE:20240819
DTEND;VALUE=DATE:20240819
SUMMARY:Angebotsfrist — Erweiterung-Erneuerung Lagunen-Erlebnisbad\, 34508 Willingen 
DESCRIPTION:Phase: Ausschreibung | Beschreibung: Angebote werden eingeholt | Link: https://ausschreibungsradar.com/ausschreibung/89cea589-25aa-4d54-946b-10da4f1b8a29/
URL:https://ausschreibungsradar.com/ausschreibung/89cea589-25aa-4d54-946b-10da4f1b8a29/
END:VEVENT
BEGIN:VEVENT
UID:8963c841c3937246@ausschreibungsradar.com
DTSTAMP:20260424T205210Z
DTSTART;VALUE=DATE:20240927
DTEND;VALUE=DATE:20240927
SUMMARY:Vergabeergebnis — Erweiterung-Erneuerung Lagunen-Erlebnisbad\, 34508 Willingen 
DESCRIPTION:Phase: Vergabeergebnis | Beschreibung: Auftrag wurde zugeschlagen | Link: https://ausschreibungsradar.com/ausschreibung/78564728-ecac-4b92-a91f-c00ae34c4e71/
URL:https://ausschreibungsradar.com/ausschreibung/78564728-ecac-4b92-a91f-c00ae34c4e71/
END:VEVENT
END:VCALENDAR
