BEGIN:VCALENDAR
VERSION:2.0
PRODID:-//AusschreibungsRadar//Timeline//DE
CALSCALE:GREGORIAN
METHOD:PUBLISH
X-WR-CALNAME:Projekt Abbrucharbeiten - Erweiterungsbau der Grundschule Helpup
X-WR-TIMEZONE:Europe/Berlin
BEGIN:VEVENT
UID:d47b96e624e98fa6@ausschreibungsradar.com
DTSTAMP:20260425T124214Z
DTSTART;VALUE=DATE:20250611
DTEND;VALUE=DATE:20250611
SUMMARY:Angebotsfrist — Abbrucharbeiten - Erweiterungsbau der Grundschule Helpup
DESCRIPTION:Phase: Ausschreibung | Beschreibung: Angebote werden eingeholt | Link: https://ausschreibungsradar.com/ausschreibung/89e8e53b-fb42-4825-994d-5810f2ab73e8/
URL:https://ausschreibungsradar.com/ausschreibung/89e8e53b-fb42-4825-994d-5810f2ab73e8/
END:VEVENT
BEGIN:VEVENT
UID:69a7d44a769b1eae@ausschreibungsradar.com
DTSTAMP:20260425T124214Z
DTSTART;VALUE=DATE:20250508
DTEND;VALUE=DATE:20250508
SUMMARY:Ausschreibung — Abbrucharbeiten - Erweiterungsbau der Grundschule Helpup
DESCRIPTION:Phase: Ausschreibung | Beschreibung: Offizielle Ausschreibung mit Bieterfrist. | Link: https://ausschreibungsradar.com/ausschreibung/5000d50f-f06e-4d56-b800-08e879bdd71a/
URL:https://ausschreibungsradar.com/ausschreibung/5000d50f-f06e-4d56-b800-08e879bdd71a/
END:VEVENT
END:VCALENDAR
