BEGIN:VCALENDAR
VERSION:2.0
PRODID:-//AusschreibungsRadar//Timeline//DE
CALSCALE:GREGORIAN
METHOD:PUBLISH
X-WR-CALNAME:Projekt Vergabeverfahren zum Abschluss einer Rahmenvereinbarung für 
X-WR-TIMEZONE:Europe/Berlin
BEGIN:VEVENT
UID:1289545ed44c5db4@ausschreibungsradar.com
DTSTAMP:20260425T185038Z
DTSTART;VALUE=DATE:20250811
DTEND;VALUE=DATE:20250811
SUMMARY:Zuschlag — Vergabeverfahren zum Abschluss einer Rahmenvereinbarung für 
DESCRIPTION:Phase: Zuschlag | Beschreibung: Vergabeergebnis — Auftrag wurde erteilt oder Verfahren beendet. | Link: https://ausschreibungsradar.com/ausschreibung/1e8f1e3b-265f-45c2-896c-8bdadee09c18/
URL:https://ausschreibungsradar.com/ausschreibung/1e8f1e3b-265f-45c2-896c-8bdadee09c18/
END:VEVENT
BEGIN:VEVENT
UID:e19edaaa78e1cc32@ausschreibungsradar.com
DTSTAMP:20260425T185038Z
DTSTART;VALUE=DATE:20250904
DTEND;VALUE=DATE:20250904
SUMMARY:Ausschreibung — Vergabeverfahren zum Abschluss einer Rahmenvereinbarung für 
DESCRIPTION:Phase: Ausschreibung | Beschreibung: Angebote werden eingeholt | Link: https://ausschreibungsradar.com/ausschreibung/8a9e3313-5fb1-4182-a037-401249126eac/ | Geschätzter Wert: 460800 €
URL:https://ausschreibungsradar.com/ausschreibung/8a9e3313-5fb1-4182-a037-401249126eac/
END:VEVENT
BEGIN:VEVENT
UID:8768e5ed64eb8831@ausschreibungsradar.com
DTSTAMP:20260425T185038Z
DTSTART;VALUE=DATE:20250904
DTEND;VALUE=DATE:20250904
SUMMARY:Ausschreibung — Vergabeverfahren zum Abschluss einer Rahmenvereinbarung für 
DESCRIPTION:Phase: Ausschreibung | Beschreibung: Offizielle Ausschreibung mit Bieterfrist. | Link: https://ausschreibungsradar.com/ausschreibung/17ce6df8-5290-4e50-bd79-41b31b0308eb/
URL:https://ausschreibungsradar.com/ausschreibung/17ce6df8-5290-4e50-bd79-41b31b0308eb/
END:VEVENT
BEGIN:VEVENT
UID:7a105c9bb95ec625@ausschreibungsradar.com
DTSTAMP:20260425T185038Z
DTSTART;VALUE=DATE:20250904
DTEND;VALUE=DATE:20250904
SUMMARY:Ausschreibung — Vergabeverfahren zum Abschluss einer Rahmenvereinbarung für 
DESCRIPTION:Phase: Ausschreibung | Beschreibung: Offizielle Ausschreibung mit Bieterfrist. | Link: https://ausschreibungsradar.com/ausschreibung/247a6a56-6ac7-4b19-9704-06981f59ed3e/
URL:https://ausschreibungsradar.com/ausschreibung/247a6a56-6ac7-4b19-9704-06981f59ed3e/
END:VEVENT
BEGIN:VEVENT
UID:933d3def4408c2cf@ausschreibungsradar.com
DTSTAMP:20260425T185038Z
DTSTART;VALUE=DATE:20251117
DTEND;VALUE=DATE:20251117
SUMMARY:Vergabeergebnis — Vergabeverfahren zum Abschluss einer Rahmenvereinbarung für 
DESCRIPTION:Phase: Vergabeergebnis | Beschreibung: Auftrag wurde zugeschlagen | Link: https://ausschreibungsradar.com/ausschreibung/f05ec125-a54f-4d65-8e73-526ba91a8902/
URL:https://ausschreibungsradar.com/ausschreibung/f05ec125-a54f-4d65-8e73-526ba91a8902/
END:VEVENT
END:VCALENDAR
