BEGIN:VCALENDAR
VERSION:2.0
PRODID:-//AusschreibungsRadar//Timeline//DE
CALSCALE:GREGORIAN
METHOD:PUBLISH
X-WR-CALNAME:Projekt Verlegung der Entwässerung (Los 1 Brücke)
X-WR-TIMEZONE:Europe/Berlin
BEGIN:VEVENT
UID:832f203c6c589219@ausschreibungsradar.com
DTSTAMP:20260425T220903Z
DTSTART;VALUE=DATE:20260109
DTEND;VALUE=DATE:20260109
SUMMARY:Ausschreibung — Verlegung der Entwässerung (Los 1 Brücke)
DESCRIPTION:Phase: Ausschreibung | Beschreibung: Offizielle Ausschreibung mit Bieterfrist. | Link: https://ausschreibungsradar.com/ausschreibung/24850194/
URL:https://ausschreibungsradar.com/ausschreibung/24850194/
END:VEVENT
BEGIN:VEVENT
UID:64a7dba3c09e5bc2@ausschreibungsradar.com
DTSTAMP:20260425T220903Z
DTSTART;VALUE=DATE:20260302
DTEND;VALUE=DATE:20260302
SUMMARY:Angebotsfrist — Verlegung der Entwässerung (Los 1 Brücke)
DESCRIPTION:Phase: Ausschreibung | Beschreibung: Angebote werden eingeholt | Link: https://ausschreibungsradar.com/ausschreibung/8b030a1e-be0f-4683-a057-0e6aff7efd70/
URL:https://ausschreibungsradar.com/ausschreibung/8b030a1e-be0f-4683-a057-0e6aff7efd70/
END:VEVENT
BEGIN:VEVENT
UID:ef5082a0190b317b@ausschreibungsradar.com
DTSTAMP:20260425T220903Z
DTSTART;VALUE=DATE:20260401
DTEND;VALUE=DATE:20260401
SUMMARY:Vergabeergebnis — Verlegung der Entwässerung (Los 1 Brücke)
DESCRIPTION:Phase: Vergabeergebnis | Beschreibung: Keine Angebote eingegangen | Link: https://ausschreibungsradar.com/ausschreibung/3903aa31-4ab8-4992-809a-84a62890f43c/
URL:https://ausschreibungsradar.com/ausschreibung/3903aa31-4ab8-4992-809a-84a62890f43c/
END:VEVENT
END:VCALENDAR
