BEGIN:VCALENDAR
VERSION:2.0
PRODID:-//AusschreibungsRadar//Timeline//DE
CALSCALE:GREGORIAN
METHOD:PUBLISH
X-WR-CALNAME:Projekt KHN - Gesamtmaßnahme | Systemtrennwände
X-WR-TIMEZONE:Europe/Berlin
BEGIN:VEVENT
UID:0d67e06e8637229c@ausschreibungsradar.com
DTSTAMP:20260425T162630Z
DTSTART;VALUE=DATE:20260223
DTEND;VALUE=DATE:20260223
SUMMARY:Angebotsfrist — KHN - Gesamtmaßnahme | Systemtrennwände
DESCRIPTION:Phase: Ausschreibung | Beschreibung: Angebote werden eingeholt | Link: https://ausschreibungsradar.com/ausschreibung/8b1fa42a-98de-4104-ad8e-8105410143db/
URL:https://ausschreibungsradar.com/ausschreibung/8b1fa42a-98de-4104-ad8e-8105410143db/
END:VEVENT
END:VCALENDAR
