BEGIN:VCALENDAR
VERSION:2.0
PRODID:-//AusschreibungsRadar//Timeline//DE
CALSCALE:GREGORIAN
METHOD:PUBLISH
X-WR-CALNAME:Projekt Briefbeförderung aus Zentraldruck und Hauptverwaltung
X-WR-TIMEZONE:Europe/Berlin
BEGIN:VEVENT
UID:2f3255baab7ccc71@ausschreibungsradar.com
DTSTAMP:20260424T190818Z
DTSTART;VALUE=DATE:20250128
DTEND;VALUE=DATE:20250128
SUMMARY:Angebotsfrist — Briefbeförderung aus Zentraldruck und Hauptverwaltung
DESCRIPTION:Phase: Ausschreibung | Beschreibung: Angebote werden eingeholt | Link: https://ausschreibungsradar.com/ausschreibung/ce1c9905-6ae6-402b-9394-f8086240c7b9/
URL:https://ausschreibungsradar.com/ausschreibung/ce1c9905-6ae6-402b-9394-f8086240c7b9/
END:VEVENT
BEGIN:VEVENT
UID:2f65048823081109@ausschreibungsradar.com
DTSTAMP:20260424T190818Z
DTSTART;VALUE=DATE:20250310
DTEND;VALUE=DATE:20250310
SUMMARY:Vergabeergebnis — Briefbeförderung aus Zentraldruck und Hauptverwaltung
DESCRIPTION:Phase: Vergabeergebnis | Beschreibung: Auftrag wurde zugeschlagen | Link: https://ausschreibungsradar.com/ausschreibung/8b7fc171-7e37-4dbc-9834-74eb5ffa7615/
URL:https://ausschreibungsradar.com/ausschreibung/8b7fc171-7e37-4dbc-9834-74eb5ffa7615/
END:VEVENT
END:VCALENDAR
