BEGIN:VCALENDAR
VERSION:2.0
PRODID:-//AusschreibungsRadar//Timeline//DE
CALSCALE:GREGORIAN
METHOD:PUBLISH
X-WR-CALNAME:Projekt Neubau Kindertagesstätte Am Kreuzloch - Ingenieurleistungen 
X-WR-TIMEZONE:Europe/Berlin
BEGIN:VEVENT
UID:1200bd2b08afe765@ausschreibungsradar.com
DTSTAMP:20260424T203401Z
DTSTART;VALUE=DATE:20250919
DTEND;VALUE=DATE:20250919
SUMMARY:Ausschreibung — Neubau Kindertagesstätte Am Kreuzloch - Ingenieurleistungen 
DESCRIPTION:Phase: Ausschreibung | Beschreibung: Angebote werden eingeholt | Link: https://ausschreibungsradar.com/ausschreibung/5c56766c-ce8e-46d1-9998-10d7fd93a9de/
URL:https://ausschreibungsradar.com/ausschreibung/5c56766c-ce8e-46d1-9998-10d7fd93a9de/
END:VEVENT
BEGIN:VEVENT
UID:ab5ec687228f4e01@ausschreibungsradar.com
DTSTAMP:20260424T203401Z
DTSTART;VALUE=DATE:20260120
DTEND;VALUE=DATE:20260120
SUMMARY:Vergabeergebnis — Neubau Kindertagesstätte Am Kreuzloch - Ingenieurleistungen 
DESCRIPTION:Phase: Vergabeergebnis | Beschreibung: Auftrag wurde zugeschlagen | Link: https://ausschreibungsradar.com/ausschreibung/8bb25878-04b2-4e47-986e-b6f36976a1f2/
URL:https://ausschreibungsradar.com/ausschreibung/8bb25878-04b2-4e47-986e-b6f36976a1f2/
END:VEVENT
BEGIN:VEVENT
UID:5e45ad697cc2406d@ausschreibungsradar.com
DTSTAMP:20260424T203401Z
DTSTART;VALUE=DATE:20260120
DTEND;VALUE=DATE:20260120
SUMMARY:Zuschlag — Neubau Kindertagesstätte Am Kreuzloch - Ingenieurleistungen 
DESCRIPTION:Phase: Zuschlag | Beschreibung: Vergabeergebnis — Auftrag wurde erteilt oder Verfahren beendet. | Link: https://ausschreibungsradar.com/ausschreibung/dc10d8bd-7e3c-4dbc-aa78-08d8fa961d18/
URL:https://ausschreibungsradar.com/ausschreibung/dc10d8bd-7e3c-4dbc-aa78-08d8fa961d18/
END:VEVENT
END:VCALENDAR
