BEGIN:VCALENDAR
VERSION:2.0
PRODID:-//AusschreibungsRadar//Timeline//DE
CALSCALE:GREGORIAN
METHOD:PUBLISH
X-WR-CALNAME:Projekt 10016344: Blocklanddeponie in Bremen - Herstellung Oberfläch
X-WR-TIMEZONE:Europe/Berlin
BEGIN:VEVENT
UID:89125e1373ab357b@ausschreibungsradar.com
DTSTAMP:20260426T025402Z
DTSTART;VALUE=DATE:20251106
DTEND;VALUE=DATE:20251106
SUMMARY:Angebotsfrist — 10016344: Blocklanddeponie in Bremen - Herstellung Oberfläch
DESCRIPTION:Phase: Ausschreibung | Beschreibung: Angebote werden eingeholt | Link: https://ausschreibungsradar.com/ausschreibung/8bcd2f8c-9b40-4361-87e7-61509c4cae02/
URL:https://ausschreibungsradar.com/ausschreibung/8bcd2f8c-9b40-4361-87e7-61509c4cae02/
END:VEVENT
BEGIN:VEVENT
UID:e49639db019f0720@ausschreibungsradar.com
DTSTAMP:20260426T025402Z
DTSTART;VALUE=DATE:20251211
DTEND;VALUE=DATE:20251211
SUMMARY:Vergabeergebnis — 10016344: Blocklanddeponie in Bremen - Herstellung Oberfläch
DESCRIPTION:Phase: Vergabeergebnis | Beschreibung: Auftrag wurde zugeschlagen | Link: https://ausschreibungsradar.com/ausschreibung/a9ef4f05-b9e7-4808-816e-e11b136936a5/
URL:https://ausschreibungsradar.com/ausschreibung/a9ef4f05-b9e7-4808-816e-e11b136936a5/
END:VEVENT
END:VCALENDAR
